BEGIN:VCALENDAR
VERSION:2.0
PRODID:-//Tuckamore Chamber Music Festival - ECPv6.15.20//NONSGML v1.0//EN
CALSCALE:GREGORIAN
METHOD:PUBLISH
X-ORIGINAL-URL:https://tuckamorefestival.ca
X-WR-CALDESC:Events for Tuckamore Chamber Music Festival
REFRESH-INTERVAL;VALUE=DURATION:PT1H
X-Robots-Tag:noindex
X-PUBLISHED-TTL:PT1H
BEGIN:VTIMEZONE
TZID:America/St_Johns
BEGIN:DAYLIGHT
TZOFFSETFROM:-0330
TZOFFSETTO:-0230
TZNAME:NDT
DTSTART:20220313T053000
END:DAYLIGHT
BEGIN:STANDARD
TZOFFSETFROM:-0230
TZOFFSETTO:-0330
TZNAME:NST
DTSTART:20221106T043000
END:STANDARD
BEGIN:DAYLIGHT
TZOFFSETFROM:-0330
TZOFFSETTO:-0230
TZNAME:NDT
DTSTART:20230312T053000
END:DAYLIGHT
BEGIN:STANDARD
TZOFFSETFROM:-0230
TZOFFSETTO:-0330
TZNAME:NST
DTSTART:20231105T043000
END:STANDARD
BEGIN:DAYLIGHT
TZOFFSETFROM:-0330
TZOFFSETTO:-0230
TZNAME:NDT
DTSTART:20240310T053000
END:DAYLIGHT
BEGIN:STANDARD
TZOFFSETFROM:-0230
TZOFFSETTO:-0330
TZNAME:NST
DTSTART:20241103T043000
END:STANDARD
END:VTIMEZONE
BEGIN:VEVENT
DTSTART;TZID=America/St_Johns:20230921T190000
DTEND;TZID=America/St_Johns:20230927T210000
DTSTAMP:20260423T081209
CREATED:20230908T150422Z
LAST-MODIFIED:20230912T205644Z
UID:1887-1695322800-1695848400@tuckamorefestival.ca
SUMMARY:Taking on Water - Arts and Culture Centre Tour
DESCRIPTION:This musical play about living in coastal communities is going on tour throughout Newfoundland and Labrador this September. Join us for performances in Gander\, Grand Falls-Windsor\, Corner Brook\, Stephenville\, Labrador City\, and Happy Valley-Goose Bay. \nSept. 21 – Joseph R. Smallwood Arts and Culture Centre\, Gander\nSept. 22 – Gordon Pinsent Centre for the Arts\, Grand Falls-Windsor\nSept. 23 – Arts and Culture Centre\, Corner Brook\nSept. 24 – Arts and Culture Centre\, Stephenville\nSept. 26 – Arts and Culture Centre\, Labrador City\nSept. 27 – Lawrence O’Brien Arts Centre\, Happy Valley-Goose Bay\n\nTaking on Water is presented in collaboration with the Future Ocean and Coastal Infrastructures project. Research funding was provided by the Ocean Frontier Institute\, through an award from the Canada First Research Excellence Fund.
URL:https://tuckamorefestival.ca/event/taking-on-water-arts-and-culture-centre-tour/
LOCATION:NL
CATEGORIES:Ticketed,Touring Event,Tuckamore Faculty
ATTACH;FMTTYPE=image/jpeg:https://tuckamorefestival.ca/wordpress/wp-content/uploads/1-1-scaled-e1694185404812.jpg
END:VEVENT
END:VCALENDAR