BEGIN:VCALENDAR
VERSION:2.0
PRODID:-//Tuckamore Chamber Music Festival - ECPv6.15.20//NONSGML v1.0//EN
CALSCALE:GREGORIAN
METHOD:PUBLISH
X-WR-CALNAME:Tuckamore Chamber Music Festival
X-ORIGINAL-URL:https://tuckamorefestival.ca
X-WR-CALDESC:Events for Tuckamore Chamber Music Festival
REFRESH-INTERVAL;VALUE=DURATION:PT1H
X-Robots-Tag:noindex
X-PUBLISHED-TTL:PT1H
BEGIN:VTIMEZONE
TZID:America/St_Johns
BEGIN:DAYLIGHT
TZOFFSETFROM:-0330
TZOFFSETTO:-0230
TZNAME:NDT
DTSTART:20240310T053000
END:DAYLIGHT
BEGIN:STANDARD
TZOFFSETFROM:-0230
TZOFFSETTO:-0330
TZNAME:NST
DTSTART:20241103T043000
END:STANDARD
BEGIN:DAYLIGHT
TZOFFSETFROM:-0330
TZOFFSETTO:-0230
TZNAME:NDT
DTSTART:20250309T053000
END:DAYLIGHT
BEGIN:STANDARD
TZOFFSETFROM:-0230
TZOFFSETTO:-0330
TZNAME:NST
DTSTART:20251102T043000
END:STANDARD
BEGIN:DAYLIGHT
TZOFFSETFROM:-0330
TZOFFSETTO:-0230
TZNAME:NDT
DTSTART:20260308T053000
END:DAYLIGHT
BEGIN:STANDARD
TZOFFSETFROM:-0230
TZOFFSETTO:-0330
TZNAME:NST
DTSTART:20261101T043000
END:STANDARD
END:VTIMEZONE
BEGIN:VEVENT
DTSTART;VALUE=DATE:20250707
DTEND;VALUE=DATE:20250712
DTSTAMP:20260423T044511
CREATED:20250611T161040Z
LAST-MODIFIED:20250702T185357Z
UID:2905-1751846400-1752278399@tuckamorefestival.ca
SUMMARY:Tuckamore Travels: 25 for 25 in '25  - Young Artist Trio Tour
DESCRIPTION:The second leg of our 25th anniversary tour will be presented by the 2025 Tuckamore Festival Young Artist Trio. Each year\, one talented trio is given the opportunity to tour part of our province in the days immediately following the festival. This year\,  violinist Noor Rouhana\, cellist Isaac Mailach\, and pianist Lisa Santoprete will give eight performances throughout the Avalon peninsula (and a little beyond!). Join them as they present works by Bach\, Scriabin and Mendelssohn and a new work by the Tuckamore Young Artist composer Nicolas Ma\, Through Thick and Thin.  \nProgram\nJS Bach – Allemande from Suite no 4 in E flat\, BWV 1010 \nScriabin – Drammatico from Sonata no 3 \nJS Bach – Grave from Sonata no 2 in a minor\, BWV 1003\nNicholas Ma – Through Thick and Thin (2025) \nPause\nMendelssohn – Piano Trio in C minor\, op. 66  \nConcert Tour Venues & Ticket Links\n* All concerts Admission by Donation\, except for where noted\nJuly 6: Pop-Up Performance – Bishop’s Gardens\, St. John’s (residents only)\nJuly 7: Pop-Up Performance – Westbury Estates\, St. John’s (residents only)\nJuly 7: James Baird Gallery\, Pouch Cove – 7:00pm\nJuly 8: Cupids Legacy Centre\, Cupids – 2:30pm\nJuly 9: Pop-Up Performance – Private Josiah Squibb Memorial Pavilion (residents only)\nJuly 9: Heart’s Content Regional Centre for the Arts – 7:30pm (TICKETS AVAILABLE HERE)\nJuly 10: Fishers’ Loft Inn\, Port Rexton – 1:00pm\nJuly 11: The Old Church at Admiral’s Cove\, Admiral’s Cove – 7:30pm (RESERVE YOUR SEAT) \nThe festivals gratefully acknowledges the generosity of the Perlin Family Trust in making this tour possible.
URL:https://tuckamorefestival.ca/event/tuckamore-travels-25-for-25-in-25-young-artist-trio-tour/
LOCATION:NL
CATEGORIES:25th anniversary event,Touring Event,Young Artist Series
END:VEVENT
END:VCALENDAR