BEGIN:VCALENDAR
VERSION:2.0
PRODID:-//Tuckamore Chamber Music Festival - ECPv6.15.20//NONSGML v1.0//EN
CALSCALE:GREGORIAN
METHOD:PUBLISH
X-WR-CALNAME:Tuckamore Chamber Music Festival
X-ORIGINAL-URL:https://tuckamorefestival.ca
X-WR-CALDESC:Events for Tuckamore Chamber Music Festival
REFRESH-INTERVAL;VALUE=DURATION:PT1H
X-Robots-Tag:noindex
X-PUBLISHED-TTL:PT1H
BEGIN:VTIMEZONE
TZID:America/St_Johns
BEGIN:DAYLIGHT
TZOFFSETFROM:-0330
TZOFFSETTO:-0230
TZNAME:NDT
DTSTART:20230312T053000
END:DAYLIGHT
BEGIN:STANDARD
TZOFFSETFROM:-0230
TZOFFSETTO:-0330
TZNAME:NST
DTSTART:20231105T043000
END:STANDARD
BEGIN:DAYLIGHT
TZOFFSETFROM:-0330
TZOFFSETTO:-0230
TZNAME:NDT
DTSTART:20240310T053000
END:DAYLIGHT
BEGIN:STANDARD
TZOFFSETFROM:-0230
TZOFFSETTO:-0330
TZNAME:NST
DTSTART:20241103T043000
END:STANDARD
BEGIN:DAYLIGHT
TZOFFSETFROM:-0330
TZOFFSETTO:-0230
TZNAME:NDT
DTSTART:20250309T053000
END:DAYLIGHT
BEGIN:STANDARD
TZOFFSETFROM:-0230
TZOFFSETTO:-0330
TZNAME:NST
DTSTART:20251102T043000
END:STANDARD
END:VTIMEZONE
BEGIN:VEVENT
DTSTART;TZID=America/St_Johns:20240821T123000
DTEND;TZID=America/St_Johns:20240821T140000
DTSTAMP:20260423T012236
CREATED:20240613T163445Z
LAST-MODIFIED:20240620T211640Z
UID:2255-1724243400-1724248800@tuckamorefestival.ca
SUMMARY:Tuckamore Travels - Port Rexton
DESCRIPTION:Join our 2024 Young Artist Touring group\, the Miltenberg Trio\, for their second stop on the Tuckamore Travels Tour! Enjoy a fantastic afternoon of music\, featuring a brand new work composed by a 2024 Young Artist Composer in this incredible venue.
URL:https://tuckamorefestival.ca/event/tuckamore-travels-port-rexton-2/
LOCATION:Fisher’s Loft performance space\, Mill Rd\, Port Rexton\, Newfoundland and Labrador\, A0C 2H0\, Canada
CATEGORIES:Ticketed,Young Artist Series
ATTACH;FMTTYPE=image/png:https://tuckamorefestival.ca/wordpress/wp-content/uploads/Event-Posters-2024-48.png
END:VEVENT
END:VCALENDAR