BEGIN:VCALENDAR
VERSION:2.0
PRODID:-//Tuckamore Chamber Music Festival - ECPv6.15.20//NONSGML v1.0//EN
CALSCALE:GREGORIAN
METHOD:PUBLISH
X-WR-CALNAME:Tuckamore Chamber Music Festival
X-ORIGINAL-URL:https://tuckamorefestival.ca
X-WR-CALDESC:Events for Tuckamore Chamber Music Festival
REFRESH-INTERVAL;VALUE=DURATION:PT1H
X-Robots-Tag:noindex
X-PUBLISHED-TTL:PT1H
BEGIN:VTIMEZONE
TZID:America/St_Johns
BEGIN:DAYLIGHT
TZOFFSETFROM:-0330
TZOFFSETTO:-0230
TZNAME:NDT
DTSTART:20230312T053000
END:DAYLIGHT
BEGIN:STANDARD
TZOFFSETFROM:-0230
TZOFFSETTO:-0330
TZNAME:NST
DTSTART:20231105T043000
END:STANDARD
BEGIN:DAYLIGHT
TZOFFSETFROM:-0330
TZOFFSETTO:-0230
TZNAME:NDT
DTSTART:20240310T053000
END:DAYLIGHT
BEGIN:STANDARD
TZOFFSETFROM:-0230
TZOFFSETTO:-0330
TZNAME:NST
DTSTART:20241103T043000
END:STANDARD
BEGIN:DAYLIGHT
TZOFFSETFROM:-0330
TZOFFSETTO:-0230
TZNAME:NDT
DTSTART:20250309T053000
END:DAYLIGHT
BEGIN:STANDARD
TZOFFSETFROM:-0230
TZOFFSETTO:-0330
TZNAME:NST
DTSTART:20251102T043000
END:STANDARD
END:VTIMEZONE
BEGIN:VEVENT
DTSTART;TZID=America/St_Johns:20240820T150000
DTEND;TZID=America/St_Johns:20240820T163000
DTSTAMP:20260423T013457
CREATED:20240613T162629Z
LAST-MODIFIED:20240620T211712Z
UID:2251-1724166000-1724171400@tuckamorefestival.ca
SUMMARY:Tuckamore Travels - Eastport
DESCRIPTION:Join our 2024 Young Artist Touring group\, the Miltenberg Trio\, for their first stop on the Tuckamore Travels Tour! Enjoy a fantastic program of music\, featuring a brand new work composed by a 2024 Young Artist Composer in this beautiful outport community.
URL:https://tuckamorefestival.ca/event/tuckamore-travels-eastport/
LOCATION:Beaches Arts and Heritage Centre\, 8 Church St\, Eastport\, Newfoundland and Labrador\, A0G 1Z0\, Canada
CATEGORIES:Ticketed,Young Artist Series
ATTACH;FMTTYPE=image/png:https://tuckamorefestival.ca/wordpress/wp-content/uploads/Event-Posters-2024-47.png
END:VEVENT
END:VCALENDAR