BEGIN:VCALENDAR
VERSION:2.0
PRODID:-//Tuckamore Chamber Music Festival - ECPv6.15.20//NONSGML v1.0//EN
CALSCALE:GREGORIAN
METHOD:PUBLISH
X-ORIGINAL-URL:https://tuckamorefestival.ca
X-WR-CALDESC:Events for Tuckamore Chamber Music Festival
REFRESH-INTERVAL;VALUE=DURATION:PT1H
X-Robots-Tag:noindex
X-PUBLISHED-TTL:PT1H
BEGIN:VTIMEZONE
TZID:America/St_Johns
BEGIN:DAYLIGHT
TZOFFSETFROM:-0330
TZOFFSETTO:-0230
TZNAME:NDT
DTSTART:20230312T053000
END:DAYLIGHT
BEGIN:STANDARD
TZOFFSETFROM:-0230
TZOFFSETTO:-0330
TZNAME:NST
DTSTART:20231105T043000
END:STANDARD
BEGIN:DAYLIGHT
TZOFFSETFROM:-0330
TZOFFSETTO:-0230
TZNAME:NDT
DTSTART:20240310T053000
END:DAYLIGHT
BEGIN:STANDARD
TZOFFSETFROM:-0230
TZOFFSETTO:-0330
TZNAME:NST
DTSTART:20241103T043000
END:STANDARD
BEGIN:DAYLIGHT
TZOFFSETFROM:-0330
TZOFFSETTO:-0230
TZNAME:NDT
DTSTART:20250309T053000
END:DAYLIGHT
BEGIN:STANDARD
TZOFFSETFROM:-0230
TZOFFSETTO:-0330
TZNAME:NST
DTSTART:20251102T043000
END:STANDARD
END:VTIMEZONE
BEGIN:VEVENT
DTSTART;TZID=America/St_Johns:20240818T193000
DTEND;TZID=America/St_Johns:20240818T210000
DTSTAMP:20260423T013807
CREATED:20240612T183723Z
LAST-MODIFIED:20240620T211738Z
UID:2208-1724009400-1724014800@tuckamorefestival.ca
SUMMARY:Festival Finale
DESCRIPTION:Our Festival Finale marks the culmination of two weeks of diligent practice\, rehearsing\, and coaching during our intensive Young Artist Program. Join our 2024 Young Artists as they perform chamber works by Johannes Brahms\, Bedřich Smetana\, Gabriel Fauré\, Clara Schumann\, and Schoenberg/Steuermann.
URL:https://tuckamorefestival.ca/event/festival-finale-3/
LOCATION:D.F. Cook Recital Hall\, Memorial University of Newfoundland - School of Music\, St. John's\, NL\, A1C 5S7\, Canada
CATEGORIES:Ticketed,Young Artist Series
ATTACH;FMTTYPE=image/png:https://tuckamorefestival.ca/wordpress/wp-content/uploads/Event-Posters-2024-29.png
END:VEVENT
END:VCALENDAR