BEGIN:VCALENDAR
VERSION:2.0
PRODID:-//Tuckamore Chamber Music Festival - ECPv6.15.20//NONSGML v1.0//EN
CALSCALE:GREGORIAN
METHOD:PUBLISH
X-WR-CALNAME:Tuckamore Chamber Music Festival
X-ORIGINAL-URL:https://tuckamorefestival.ca
X-WR-CALDESC:Events for Tuckamore Chamber Music Festival
REFRESH-INTERVAL;VALUE=DURATION:PT1H
X-Robots-Tag:noindex
X-PUBLISHED-TTL:PT1H
BEGIN:VTIMEZONE
TZID:America/St_Johns
BEGIN:DAYLIGHT
TZOFFSETFROM:-0330
TZOFFSETTO:-0230
TZNAME:NDT
DTSTART:20220313T053000
END:DAYLIGHT
BEGIN:STANDARD
TZOFFSETFROM:-0230
TZOFFSETTO:-0330
TZNAME:NST
DTSTART:20221106T043000
END:STANDARD
BEGIN:DAYLIGHT
TZOFFSETFROM:-0330
TZOFFSETTO:-0230
TZNAME:NDT
DTSTART:20230312T053000
END:DAYLIGHT
BEGIN:STANDARD
TZOFFSETFROM:-0230
TZOFFSETTO:-0330
TZNAME:NST
DTSTART:20231105T043000
END:STANDARD
BEGIN:DAYLIGHT
TZOFFSETFROM:-0330
TZOFFSETTO:-0230
TZNAME:NDT
DTSTART:20240310T053000
END:DAYLIGHT
BEGIN:STANDARD
TZOFFSETFROM:-0230
TZOFFSETTO:-0330
TZNAME:NST
DTSTART:20241103T043000
END:STANDARD
END:VTIMEZONE
BEGIN:VEVENT
DTSTART;TZID=America/St_Johns:20230809T123000
DTEND;TZID=America/St_Johns:20230809T133000
DTSTAMP:20260423T172647
CREATED:20230615T133001Z
LAST-MODIFIED:20230624T144559Z
UID:1559-1691584200-1691587800@tuckamorefestival.ca
SUMMARY:Lunchtime Young Artist Recital 1
DESCRIPTION:Our annual Lunchtime Recital series is perhaps one of our most anticipated events! Meet our talented 2023 Young Artists\, and enjoy solo and chamber music in this beautiful downtown venue.  \nAdmission by donation.
URL:https://tuckamorefestival.ca/event/lunchtime-young-artist-recital-1-2/
LOCATION:Anglican Cathedral\, 16 Church Hill\, St. John's\, NL\, A1C 3Z9\, Canada
CATEGORIES:Admission by donation,Young Artist Series
ATTACH;FMTTYPE=image/png:https://tuckamorefestival.ca/wordpress/wp-content/uploads/Untitled-2.png
END:VEVENT
BEGIN:VEVENT
DTSTART;TZID=America/St_Johns:20230810T123000
DTEND;TZID=America/St_Johns:20230810T133000
DTSTAMP:20260423T172647
CREATED:20230615T133214Z
LAST-MODIFIED:20230615T133214Z
UID:1566-1691670600-1691674200@tuckamorefestival.ca
SUMMARY:Lunchtime Young Artist Recital 2
DESCRIPTION:The second installment in our annual Lunchtime Recital series will feature more performances from our talented 2023 Young Artists. Please join us for an afternoon of music in the historic Anglican Cathedral.  \nAdmission by donation.
URL:https://tuckamorefestival.ca/event/lunchtime-young-artist-recital-2-2/
LOCATION:Anglican Cathedral\, 16 Church Hill\, St. John's\, NL\, A1C 3Z9\, Canada
CATEGORIES:Admission by donation,Young Artist Series
ATTACH;FMTTYPE=image/jpeg:https://tuckamorefestival.ca/wordpress/wp-content/uploads/TuckermoreAug12-202182of99-1-scaled.jpg
END:VEVENT
BEGIN:VEVENT
DTSTART;TZID=America/St_Johns:20230812T190000
DTEND;TZID=America/St_Johns:20230812T203000
DTSTAMP:20260423T172647
CREATED:20230615T134807Z
LAST-MODIFIED:20230615T134807Z
UID:1479-1691866800-1691872200@tuckamorefestival.ca
SUMMARY:Meet the Young Artists & Composers at Play
DESCRIPTION:Three young composers were selected to write new works for the 2023 Young Artist Composer Program. Join us in Suncor Hall to hear the world-premiere performances of these new compositions written under the direction of Guest Composition Faculty Randolph Peters and Bekah Simms. These premieres will be performed by our 2023 Young Artist performers\, along with lively classical trios\, quartets\, and quintets!
URL:https://tuckamorefestival.ca/event/meet-the-young-artists-composers-at-play/
LOCATION:Suncor Energy Hall\, Memorial University of Newfoundland - School of Music\, St. John's\, NL\, A1C 5S7\, Canada
CATEGORIES:Ticketed,Young Artist Series
ATTACH;FMTTYPE=image/jpeg:https://tuckamorefestival.ca/wordpress/wp-content/uploads/descarga.jpg
END:VEVENT
BEGIN:VEVENT
DTSTART;TZID=America/St_Johns:20230816T123000
DTEND;TZID=America/St_Johns:20230816T133000
DTSTAMP:20260423T172647
CREATED:20230615T135634Z
LAST-MODIFIED:20230615T135634Z
UID:1577-1692189000-1692192600@tuckamorefestival.ca
SUMMARY:Lunchtime Young Artist Recital 3
DESCRIPTION:The third installment in our Lunchtime Recital series will feature an uplifting hour of diverse solo and chamber music performed by our talented 2023 Young Artists!  \nAdmission by donation.
URL:https://tuckamorefestival.ca/event/lunchtime-young-artist-recital-3-2/
LOCATION:Anglican Cathedral\, 16 Church Hill\, St. John's\, NL\, A1C 3Z9\, Canada
CATEGORIES:Admission by donation,Young Artist Series
ATTACH;FMTTYPE=image/jpeg:https://tuckamorefestival.ca/wordpress/wp-content/uploads/TuckermoreAug12-202148of99-scaled.jpg
END:VEVENT
BEGIN:VEVENT
DTSTART;TZID=America/St_Johns:20230817T123000
DTEND;TZID=America/St_Johns:20230817T133000
DTSTAMP:20260423T172647
CREATED:20230615T140106Z
LAST-MODIFIED:20230624T150152Z
UID:1579-1692275400-1692279000@tuckamorefestival.ca
SUMMARY:Lunchtime Young Artist Recital 4
DESCRIPTION:For the fourth and final lunchtime event with our 2023 Young Artists\, spend an hour experiencing varied chamber and solo performances by this incredible group of young musicians.  \nAdmission by donation.
URL:https://tuckamorefestival.ca/event/lunchtime-young-artist-recital-4-2/
LOCATION:Anglican Cathedral\, 16 Church Hill\, St. John's\, NL\, A1C 3Z9\, Canada
CATEGORIES:Admission by donation,Young Artist Series
ATTACH;FMTTYPE=image/png:https://tuckamorefestival.ca/wordpress/wp-content/uploads/Untitled-2-4.png
END:VEVENT
BEGIN:VEVENT
DTSTART;TZID=America/St_Johns:20230819T150000
DTEND;TZID=America/St_Johns:20230819T163000
DTSTAMP:20260423T172647
CREATED:20230615T140510Z
LAST-MODIFIED:20230817T170626Z
UID:1583-1692457200-1692462600@tuckamorefestival.ca
SUMMARY:Young Artists in Brigus
DESCRIPTION:We are thrilled to return to the much-loved St. Georges Heritage Church as part of our 23rd festival.  Join our Young Artist Performers\, who will bring their talents to this historic community\, located in Conception Bay. 
URL:https://tuckamorefestival.ca/event/young-artists-in-brigus/
LOCATION:St. George’s Heritage Church\, 37 Middle Ridge\, Brigus\, NL\, A0A 1K0\, Canada
CATEGORIES:Touring Event,Young Artist Series
ATTACH;FMTTYPE=image/jpeg:https://tuckamorefestival.ca/wordpress/wp-content/uploads/download.jpg
END:VEVENT
BEGIN:VEVENT
DTSTART;TZID=America/St_Johns:20230820T193000
DTEND;TZID=America/St_Johns:20230820T210000
DTSTAMP:20260423T172647
CREATED:20230615T140404Z
LAST-MODIFIED:20230615T140404Z
UID:1493-1692559800-1692565200@tuckamorefestival.ca
SUMMARY:Festival Finale
DESCRIPTION:Sponsored by \n \nOur Festival Finale marks the culmination of two weeks of diligent practice\, rehearsing\, and coaching during our intensive Young Artist Program. Join our 2023 Young Artists as they perform chamber works by Ludwig van Beethoven\, Johannes Brahms\, Antonín Dvořák\, César Franck\, Amy Beach\, and Samuel Coleridge-Taylor.
URL:https://tuckamorefestival.ca/event/festival-finale-2/
LOCATION:D.F. Cook Recital Hall\, Memorial University of Newfoundland - School of Music\, St. John's\, NL\, A1C 5S7\, Canada
CATEGORIES:Ticketed,Young Artist Series
ATTACH;FMTTYPE=image/jpeg:https://tuckamorefestival.ca/wordpress/wp-content/uploads/TuckerMoreFestAug2022FinalPerformance79of205.jpg
END:VEVENT
BEGIN:VEVENT
DTSTART;TZID=America/St_Johns:20230822T200000
DTEND;TZID=America/St_Johns:20230822T213000
DTSTAMP:20260423T172647
CREATED:20230615T144602Z
LAST-MODIFIED:20230624T152739Z
UID:1701-1692734400-1692739800@tuckamorefestival.ca
SUMMARY:Tuckamore Travels: Young Artist Trio in Corner Brook
DESCRIPTION:Our 23rd season continues with a special post-festival tour featuring one talented 2023 Young Artist trio. The trio will pack their bags and head west for their first stop at the Rotary Arts Centre in stunning Corner Brook.  \nFree admission.
URL:https://tuckamorefestival.ca/event/tuckamore-travels-young-artist-trio-in-corner-brook/
LOCATION:Rotary Arts Centre\, 5 Park St\, Corner Brook\, Newfoundland and Labrador\, A2H 6E3\, Canada
CATEGORIES:Admission by donation,Touring Event,Young Artist Series
ATTACH;FMTTYPE=image/png:https://tuckamorefestival.ca/wordpress/wp-content/uploads/Untitled-2-5.png
END:VEVENT
BEGIN:VEVENT
DTSTART;TZID=America/St_Johns:20230824T123000
DTEND;TZID=America/St_Johns:20230824T140000
DTSTAMP:20260423T172647
CREATED:20230615T144534Z
LAST-MODIFIED:20230624T152940Z
UID:1645-1692880200-1692885600@tuckamorefestival.ca
SUMMARY:Tuckamore Travels: Young Artist Trio in Port Rexton
DESCRIPTION:The second stop of the 2023 Young Artist Trio tour is in the incredible town of Port Rexton\, within the gorgeous Fisher’s Loft performance space.
URL:https://tuckamorefestival.ca/event/tuckamore-travels-young-artist-trio-in-port-rexton/
LOCATION:Fisher’s Loft performance space\, Mill Rd\, Port Rexton\, Newfoundland and Labrador\, A0C 2H0\, Canada
CATEGORIES:Ticketed,Touring Event,Young Artist Series
ATTACH;FMTTYPE=image/png:https://tuckamorefestival.ca/wordpress/wp-content/uploads/Untitled-2-6.png
END:VEVENT
BEGIN:VEVENT
DTSTART;TZID=America/St_Johns:20230825T190000
DTEND;TZID=America/St_Johns:20230825T203000
DTSTAMP:20260423T172647
CREATED:20230623T131140Z
LAST-MODIFIED:20230623T131140Z
UID:1705-1692990000-1692995400@tuckamorefestival.ca
SUMMARY:Tuckamore Travels: Young Artist Trio in Pouch Cove
DESCRIPTION:Our Young Artist Trio finishes off their tour in this scenic windswept community\, about 30 minutes north of St. John’s in the delightful  James Baird Gallery.
URL:https://tuckamorefestival.ca/event/tuckamore-travels-young-artist-trio-in-pouch-cove/
LOCATION:James Baird Gallery\, 14 Gruchy's Hill\, Pouch Cove\, NL\, A0A 3L0\, Canada
CATEGORIES:Admission by donation,Touring Event,Young Artist Series
ATTACH;FMTTYPE=image/jpeg:https://tuckamorefestival.ca/wordpress/wp-content/uploads/asd-scaled.jpg
END:VEVENT
BEGIN:VEVENT
DTSTART;TZID=America/St_Johns:20230826T200000
DTEND;TZID=America/St_Johns:20230826T213000
DTSTAMP:20260423T172647
CREATED:20230703T122623Z
LAST-MODIFIED:20230703T123200Z
UID:1643-1693080000-1693085400@tuckamorefestival.ca
SUMMARY:Tuckamore Travels: Taking on Water in Bonavista
DESCRIPTION:The final stop on our August Taking on Water tour will be at the Garrick Theatre on the beautiful Bonavista Peninsula. \nTaking on Water is presented in collaboration with the Future Ocean and Coastal Infrastructures project. Research funding was provided by the Ocean Frontier Institute\, through an award from the Canada First Research Excellence Fund.
URL:https://tuckamorefestival.ca/event/tuckamore-travels-taking-on-water-in-bonavista/
LOCATION:The Garrick Theatre\, 16 Church St\, Bonavista\, Newfoundland and Labrador\, A0C 1B0\, Canada
CATEGORIES:Admission by donation,Touring Event,Young Artist Series
ATTACH;FMTTYPE=image/jpeg:https://tuckamorefestival.ca/wordpress/wp-content/uploads/mainstage.jpg
END:VEVENT
END:VCALENDAR