BEGIN:VCALENDAR
VERSION:2.0
PRODID:-//Tuckamore Chamber Music Festival - ECPv6.15.20//NONSGML v1.0//EN
CALSCALE:GREGORIAN
METHOD:PUBLISH
X-ORIGINAL-URL:https://tuckamorefestival.ca
X-WR-CALDESC:Events for Tuckamore Chamber Music Festival
REFRESH-INTERVAL;VALUE=DURATION:PT1H
X-Robots-Tag:noindex
X-PUBLISHED-TTL:PT1H
BEGIN:VTIMEZONE
TZID:America/St_Johns
BEGIN:DAYLIGHT
TZOFFSETFROM:-0330
TZOFFSETTO:-0230
TZNAME:NDT
DTSTART:20220313T053000
END:DAYLIGHT
BEGIN:STANDARD
TZOFFSETFROM:-0230
TZOFFSETTO:-0330
TZNAME:NST
DTSTART:20221106T043000
END:STANDARD
BEGIN:DAYLIGHT
TZOFFSETFROM:-0330
TZOFFSETTO:-0230
TZNAME:NDT
DTSTART:20230312T053000
END:DAYLIGHT
BEGIN:STANDARD
TZOFFSETFROM:-0230
TZOFFSETTO:-0330
TZNAME:NST
DTSTART:20231105T043000
END:STANDARD
BEGIN:DAYLIGHT
TZOFFSETFROM:-0330
TZOFFSETTO:-0230
TZNAME:NDT
DTSTART:20240310T053000
END:DAYLIGHT
BEGIN:STANDARD
TZOFFSETFROM:-0230
TZOFFSETTO:-0330
TZNAME:NST
DTSTART:20241103T043000
END:STANDARD
BEGIN:DAYLIGHT
TZOFFSETFROM:-0330
TZOFFSETTO:-0230
TZNAME:NDT
DTSTART:20250309T053000
END:DAYLIGHT
BEGIN:STANDARD
TZOFFSETFROM:-0230
TZOFFSETTO:-0330
TZNAME:NST
DTSTART:20251102T043000
END:STANDARD
BEGIN:DAYLIGHT
TZOFFSETFROM:-0330
TZOFFSETTO:-0230
TZNAME:NDT
DTSTART:20260308T053000
END:DAYLIGHT
BEGIN:STANDARD
TZOFFSETFROM:-0230
TZOFFSETTO:-0330
TZNAME:NST
DTSTART:20261101T043000
END:STANDARD
END:VTIMEZONE
BEGIN:VEVENT
DTSTART;TZID=America/St_Johns:20230810T140000
DTEND;TZID=America/St_Johns:20230810T160000
DTSTAMP:20260425T231418
CREATED:20230615T133332Z
LAST-MODIFIED:20230624T145054Z
UID:1568-1691676000-1691683200@tuckamorefestival.ca
SUMMARY:Young Artist Masterclass with Amadi Azikiwe
DESCRIPTION:Witness this New York City violist coach the 2023 Young Artists through performances in D.F. Cook Recital Hall. This masterclass is free and open to the public\, so we hope to see you there!
URL:https://tuckamorefestival.ca/event/young-artist-masterclass-with-amadi-azikiwe/
LOCATION:D.F. Cook Recital Hall\, Memorial University of Newfoundland - School of Music\, St. John's\, NL\, A1C 5S7\, Canada
CATEGORIES:Free,Masterclasses & Talks
ATTACH;FMTTYPE=image/png:https://tuckamorefestival.ca/wordpress/wp-content/uploads/Untitled-2-1.png
END:VEVENT
BEGIN:VEVENT
DTSTART;TZID=America/St_Johns:20230815T100000
DTEND;TZID=America/St_Johns:20230815T120000
DTSTAMP:20260425T231418
CREATED:20230615T134939Z
LAST-MODIFIED:20230624T145618Z
UID:1572-1692093600-1692100800@tuckamorefestival.ca
SUMMARY:Masterclass with the Pacifica Quartet
DESCRIPTION:Our six chamber groups receive feedback and mentorship from the individual members of the Pacifica Quartet following live performances. This masterclass will take place at the Memorial University School of Music and is open to the public. 
URL:https://tuckamorefestival.ca/event/masterclass-with-the-pacifica-quartet/
LOCATION:MUN School of Music\, Burtons Pond Rd\, St. John's\, Newfoundland and Labrador\, A1C 5S7\, Canada
CATEGORIES:Free,Masterclasses & Talks
ATTACH;FMTTYPE=image/png:https://tuckamorefestival.ca/wordpress/wp-content/uploads/Untitled-2-2.png
END:VEVENT
BEGIN:VEVENT
DTSTART;TZID=America/St_Johns:20230816T110000
DTEND;TZID=America/St_Johns:20230816T123000
DTSTAMP:20260425T231418
CREATED:20230615T135608Z
LAST-MODIFIED:20230615T142724Z
UID:1575-1692183600-1692189000@tuckamorefestival.ca
SUMMARY:Children's Concert with Pacifica Quartet
DESCRIPTION:This fun and engaging event for the entire family features the award-winning Pacifica Quartet in the beautiful atrium at The Rooms. 
URL:https://tuckamorefestival.ca/event/childrens-concert-with-pacifica-quartet/
LOCATION:The Rooms\, 9 Bonaventure Ave\, St. John's\, NL\, A1C 5P9
CATEGORIES:Free,Masterclasses & Talks
ATTACH;FMTTYPE=image/jpeg:https://tuckamorefestival.ca/wordpress/wp-content/uploads/rooms-exterior-2019-11crop-2.jpg
END:VEVENT
BEGIN:VEVENT
DTSTART;TZID=America/St_Johns:20230819T100000
DTEND;TZID=America/St_Johns:20230819T110000
DTSTAMP:20260425T231418
CREATED:20230615T140339Z
LAST-MODIFIED:20230624T224552Z
UID:1581-1692439200-1692442800@tuckamorefestival.ca
SUMMARY:Q&A With Marc-André Hamelin
DESCRIPTION:Join our young pianists and chamber groups for this incredible free opportunity to gain insight from the legendary Canadian Pianist\, Marc-André Hamelin. 
URL:https://tuckamorefestival.ca/event/qa-with-marc-andre-hamelin/
LOCATION:D.F. Cook Recital Hall\, Memorial University of Newfoundland - School of Music\, St. John's\, NL\, A1C 5S7\, Canada
CATEGORIES:Free,Masterclasses & Talks
ATTACH;FMTTYPE=image/png:https://tuckamorefestival.ca/wordpress/wp-content/uploads/Untitled-3.png
END:VEVENT
BEGIN:VEVENT
DTSTART;TZID=America/St_Johns:20240313T193000
DTEND;TZID=America/St_Johns:20240313T210000
DTSTAMP:20260425T231418
CREATED:20240125T170712Z
LAST-MODIFIED:20240502T123407Z
UID:1999-1710358200-1710363600@tuckamorefestival.ca
SUMMARY:Brentano Quartet
DESCRIPTION:We’re so excited to announce the Brentano String Quartet will be performing in St. John’s this March. Since its inception in 1992\, the Brentano String Quartet has appeared throughout the world to popular and critical acclaim. \n“[A] luxuriously warm sound [and] yearning lyricism” – The New York Times \n“The Brentanos are a magnificent string quartet…This was wonderful\, selfless music-making.” – The Times (London) \nThe Quartet has performed across five continents in the world’s most prestigious venues\, from Carnegie Hall to the Sydney Opera House. In 2014\, the Brentano Quartet became the Quartet in Residence at the Yale School of Music\, departing from their 15-year residency at Princeton University. \n  \non the program: \nMozart Quartet in D Major K. 499 “Hoffmeister”\nShostakovich Quartet No. 8\nMendelssohn Quartet in D Major Op. 44\, No. 1
URL:https://tuckamorefestival.ca/event/brentano-quartet/
LOCATION:MUN School of Music\, Burtons Pond Rd\, St. John's\, Newfoundland and Labrador\, A1C 5S7\, Canada
CATEGORIES:Guest Artist Series,Masterclasses & Talks,Ticketed
ATTACH;FMTTYPE=image/jpeg:https://tuckamorefestival.ca/wordpress/wp-content/uploads/BRENTANO_Jurgen.Frank_1-scaled.jpg
END:VEVENT
BEGIN:VEVENT
DTSTART;TZID=America/St_Johns:20240804T150000
DTEND;TZID=America/St_Johns:20240804T160000
DTSTAMP:20260425T231418
CREATED:20240612T122205Z
LAST-MODIFIED:20240724T191649Z
UID:2126-1722783600-1722787200@tuckamorefestival.ca
SUMMARY:Weird and Wondrous Music: Tuckamore Talk with Joe Argentino
DESCRIPTION:Join Tuckamore Festival’s resident music theorist\, Joe Argentino\, for a free\, fun-filled\, and engaging talk on eccentric and bizarre classical compositions. His talk\, entitled Weird and Wondrous Music\, will highlight how certain composers throughout history pushed the boundaries of classical music\, embracing the absurd and the unconventional\, to create jaw-dropping and yet captivating works. From the playful dissonance of Mozart and Rossini to the avant-garde experiments of Berio and Cage\, discover how these composers defied norms and redefined the possibilities of classical music. \nDon’t miss this opportunity to explore this fascinating world of strange classical music in the relaxed and enjoyable atmosphere of Bannerman Brewery\, where you can also enjoy a refreshing beverage.
URL:https://tuckamorefestival.ca/event/tuckamore-talk-with-joe-argentino/
LOCATION:Bannerman Brewing Co\, 90 Duckworth St.\, St. John's\, NL\, A1C 1E7\, Canada
CATEGORIES:Free,Masterclasses & Talks,Tuckamore Faculty
ATTACH;FMTTYPE=image/png:https://tuckamorefestival.ca/wordpress/wp-content/uploads/Event-Posters-2024-30.png
END:VEVENT
BEGIN:VEVENT
DTSTART;TZID=America/St_Johns:20240806T140000
DTEND;TZID=America/St_Johns:20240806T160000
DTSTAMP:20260425T231418
CREATED:20240612T122935Z
LAST-MODIFIED:20240802T201018Z
UID:2129-1722952800-1722960000@tuckamorefestival.ca
SUMMARY:Young Artist Masterclass with Sharon Wei
DESCRIPTION:Our 2024 Young Artists perform for and get coached by the Juno-winning Sharon Wei\, violist of the New Orford String Quartet and professor of viola at Western University. This masterclass in D.F. Cook Recital Hall is free and open to the public.
URL:https://tuckamorefestival.ca/event/young-artist-masterclass-with-sharon-wei/
LOCATION:D.F. Cook Recital Hall\, Memorial University of Newfoundland - School of Music\, St. John's\, NL\, A1C 5S7\, Canada
CATEGORIES:Free,Guest Artist Series,Masterclasses & Talks
ATTACH;FMTTYPE=image/png:https://tuckamorefestival.ca/wordpress/wp-content/uploads/Event-Posters-2024-7-1.png
END:VEVENT
BEGIN:VEVENT
DTSTART;TZID=America/St_Johns:20240808T140000
DTEND;TZID=America/St_Johns:20240808T160000
DTSTAMP:20260425T231418
CREATED:20240612T131427Z
LAST-MODIFIED:20240613T115036Z
UID:2142-1723125600-1723132800@tuckamorefestival.ca
SUMMARY:Young Artist Masterclass with Renée Jolles
DESCRIPTION:Listen in as Renée Jolles\, professor of violin at the Eastman School of Music and concertmaster of the world-renowned\, Grammy Award-winning\, conductorless Orpheus Chamber Orchestra\, works with the Tuckamore Young Artists. \nThis masterclass is free and open to the public.
URL:https://tuckamorefestival.ca/event/young-artist-masterclass-with-renee-jolles/
LOCATION:D.F. Cook Recital Hall\, Memorial University of Newfoundland - School of Music\, St. John's\, NL\, A1C 5S7\, Canada
CATEGORIES:Free,Guest Artist Series,Masterclasses & Talks
ATTACH;FMTTYPE=image/png:https://tuckamorefestival.ca/wordpress/wp-content/uploads/Event-Posters-2024-33.png
END:VEVENT
BEGIN:VEVENT
DTSTART;TZID=America/St_Johns:20240811T140000
DTEND;TZID=America/St_Johns:20240811T160000
DTSTAMP:20260425T231418
CREATED:20240613T160511Z
LAST-MODIFIED:20240613T164341Z
UID:2245-1723384800-1723392000@tuckamorefestival.ca
SUMMARY:Community Masterclass with Tuckamore Faculty
DESCRIPTION:Interested in working one-on-one with our incredible Tuckamore Festival faculty violinist Nancy Dahn\, cellist Vernon Regehr\, or pianist Timothy Steeves? Anyone studying at the intermediate level or above is welcome to sign up for our community masterclasses! Get a chance to perform and gain valuable feedback from these seasoned professionals. \nIf you are interested in signing up for one of these great workshops\, click the “I’m interested” link above! \n  \nLimited spaces available*
URL:https://tuckamorefestival.ca/event/community-masterclass-with-tuckamore-faculty/
LOCATION:MUN School of Music\, Burtons Pond Rd\, St. John's\, Newfoundland and Labrador\, A1C 5S7\, Canada
CATEGORIES:Free,Masterclasses & Talks,Tuckamore Faculty
ATTACH;FMTTYPE=image/png:https://tuckamorefestival.ca/wordpress/wp-content/uploads/Event-Posters-2024-44.png
END:VEVENT
BEGIN:VEVENT
DTSTART;TZID=America/St_Johns:20240813T100000
DTEND;TZID=America/St_Johns:20240813T120000
DTSTAMP:20260425T231418
CREATED:20240612T172317Z
LAST-MODIFIED:20240612T184225Z
UID:2173-1723543200-1723550400@tuckamorefestival.ca
SUMMARY:Young Artist Masterclass with the Ying Quartet
DESCRIPTION:Our six Young Artist chamber groups will receive feedback and mentorship from the individual members of the Ying Quartet following live performances. These masterclasses will take place at the Memorial University School of Music (D.F. Cook Recital Hall\, Suncor Energy Hall\, Choral Room\, Chamber Studio) and are open to the public.
URL:https://tuckamorefestival.ca/event/young-artist-masterclass-with-the-ying-quartet/
LOCATION:MUN School of Music\, Burtons Pond Rd\, St. John's\, Newfoundland and Labrador\, A1C 5S7\, Canada
CATEGORIES:Free,Guest Artist Series,Masterclasses & Talks
ATTACH;FMTTYPE=image/png:https://tuckamorefestival.ca/wordpress/wp-content/uploads/Event-Posters-2024-35.png
END:VEVENT
BEGIN:VEVENT
DTSTART;TZID=America/St_Johns:20240816T100000
DTEND;TZID=America/St_Johns:20240816T120000
DTSTAMP:20260425T231418
CREATED:20240612T181234Z
LAST-MODIFIED:20240613T115505Z
UID:2192-1723802400-1723809600@tuckamorefestival.ca
SUMMARY:Masterclass with Jeremy Denk
DESCRIPTION:Our Young Artist pianists receive coaching from one of America’s foremost pianists\, Jeremy Denk. \nThis masterclass is free and open to the public.
URL:https://tuckamorefestival.ca/event/masterclass-with-jeremy-denk/
LOCATION:D.F. Cook Recital Hall\, Memorial University of Newfoundland - School of Music\, St. John's\, NL\, A1C 5S7\, Canada
CATEGORIES:Free,Guest Artist Series,Masterclasses & Talks
ATTACH;FMTTYPE=image/png:https://tuckamorefestival.ca/wordpress/wp-content/uploads/Event-Posters-2024-23.png
END:VEVENT
BEGIN:VEVENT
DTSTART;TZID=America/St_Johns:20250622T150000
DTEND;TZID=America/St_Johns:20250622T170000
DTSTAMP:20260425T231418
CREATED:20250428T194317Z
LAST-MODIFIED:20250527T021357Z
UID:2624-1750604400-1750611600@tuckamorefestival.ca
SUMMARY:Tuckamore Talk by Clark Ross
DESCRIPTION:The Festival’s resident music theorist takes us on an enriching and humour filled musical journey. 
URL:https://tuckamorefestival.ca/event/tuckamore-talk-by-joe-argentino/
LOCATION:Bannerman Brewing Co\, 90 Duckworth St.\, St. John's\, NL\, A1C 1E7\, Canada
CATEGORIES:Free,Masterclasses & Talks
ATTACH;FMTTYPE=image/jpeg:https://tuckamorefestival.ca/wordpress/wp-content/uploads/rossross.jpg
END:VEVENT
BEGIN:VEVENT
DTSTART;TZID=America/St_Johns:20250624T100000
DTEND;TZID=America/St_Johns:20250624T120000
DTSTAMP:20260425T231418
CREATED:20250428T194756Z
LAST-MODIFIED:20250428T194756Z
UID:2692-1750759200-1750766400@tuckamorefestival.ca
SUMMARY:Piano Masterclass with Charles Richard-Hamelin
DESCRIPTION:Tuckamore Young Artists perform and explore solo piano repertoire under the guidance of one of Canada’s finest pianists.
URL:https://tuckamorefestival.ca/event/piano-masterclass-with-charles-richard-hamelin/
LOCATION:D.F. Cook Recital Hall\, Memorial University of Newfoundland - School of Music\, St. John's\, NL\, A1C 5S7\, Canada
CATEGORIES:Free,Masterclasses & Talks
ATTACH;FMTTYPE=image/jpeg:https://tuckamorefestival.ca/wordpress/wp-content/uploads/6.jpg
END:VEVENT
BEGIN:VEVENT
DTSTART;TZID=America/St_Johns:20250625T140000
DTEND;TZID=America/St_Johns:20250625T160000
DTSTAMP:20260425T231418
CREATED:20250428T194810Z
LAST-MODIFIED:20250527T023029Z
UID:2698-1750860000-1750867200@tuckamorefestival.ca
SUMMARY:Chamber Music and Viola Masterclass with violist Dov Scheindlin
DESCRIPTION:Tuckamore Young Artists perform and explore solo viola and chamber music repertoire with Dov Scheindlin\, member of the Orpheus Chamber Ensemble and Metropolitan Opera Orchestra. 
URL:https://tuckamorefestival.ca/event/chamber-music-and-viola-masterclass-with-violist-dov-scheindlin/
LOCATION:Suncor Energy Hall\, Memorial University of Newfoundland - School of Music\, St. John's\, NL\, A1C 5S7\, Canada
CATEGORIES:Free,Masterclasses & Talks
ATTACH;FMTTYPE=image/jpeg:https://tuckamorefestival.ca/wordpress/wp-content/uploads/dovsunc.jpg
END:VEVENT
BEGIN:VEVENT
DTSTART;TZID=America/St_Johns:20250626T140000
DTEND;TZID=America/St_Johns:20250626T153000
DTSTAMP:20260425T231418
CREATED:20250428T195013Z
LAST-MODIFIED:20250527T023002Z
UID:2702-1750946400-1750951800@tuckamorefestival.ca
SUMMARY:Chamber Music and Violin Masterclass with violinist Serena Canin
DESCRIPTION:The violinist of the world renown Brentano String Quartet works with Young Artists in the masterclass setting.
URL:https://tuckamorefestival.ca/event/chamber-music-and-violin-masterclass-with-violinist-serena-canin/
LOCATION:Suncor Energy Hall\, Memorial University of Newfoundland - School of Music\, St. John's\, NL\, A1C 5S7\, Canada
CATEGORIES:Free,Masterclasses & Talks
ATTACH;FMTTYPE=image/jpeg:https://tuckamorefestival.ca/wordpress/wp-content/uploads/seremasunc.jpg
END:VEVENT
BEGIN:VEVENT
DTSTART;TZID=America/St_Johns:20250701T100000
DTEND;TZID=America/St_Johns:20250701T110000
DTSTAMP:20260425T231418
CREATED:20250428T200354Z
LAST-MODIFIED:20250527T023142Z
UID:2711-1751364000-1751367600@tuckamorefestival.ca
SUMMARY:Chamber Music Masterclass with members of the New Orford Quartet
DESCRIPTION:Our six Young Artist chamber groups will receive feedback and mentorship from members of the New Orford Quartet following live performances. These masterclasses will take place at the Memorial University School of Music (D.F. Cook Recital Hall\, Suncor Energy Hall\, Choral Room\, Chamber Studio) and are open to the public.
URL:https://tuckamorefestival.ca/event/chamber-music-masterclass-with-members-of-the-new-orford-quartet/
LOCATION:MUN School of Music\, Burtons Pond Rd\, St. John's\, Newfoundland and Labrador\, A1C 5S7\, Canada
CATEGORIES:Free,Guest Artist Series,Masterclasses & Talks
ATTACH;FMTTYPE=image/jpeg:https://tuckamorefestival.ca/wordpress/wp-content/uploads/neworfmaster.jpg
END:VEVENT
END:VCALENDAR