BEGIN:VCALENDAR
VERSION:2.0
PRODID:-//Tuckamore Chamber Music Festival - ECPv6.15.20//NONSGML v1.0//EN
CALSCALE:GREGORIAN
METHOD:PUBLISH
X-WR-CALNAME:Tuckamore Chamber Music Festival
X-ORIGINAL-URL:https://tuckamorefestival.ca
X-WR-CALDESC:Events for Tuckamore Chamber Music Festival
REFRESH-INTERVAL;VALUE=DURATION:PT1H
X-Robots-Tag:noindex
X-PUBLISHED-TTL:PT1H
BEGIN:VTIMEZONE
TZID:America/St_Johns
BEGIN:DAYLIGHT
TZOFFSETFROM:-0330
TZOFFSETTO:-0230
TZNAME:NDT
DTSTART:20220313T053000
END:DAYLIGHT
BEGIN:STANDARD
TZOFFSETFROM:-0230
TZOFFSETTO:-0330
TZNAME:NST
DTSTART:20221106T043000
END:STANDARD
BEGIN:DAYLIGHT
TZOFFSETFROM:-0330
TZOFFSETTO:-0230
TZNAME:NDT
DTSTART:20230312T053000
END:DAYLIGHT
BEGIN:STANDARD
TZOFFSETFROM:-0230
TZOFFSETTO:-0330
TZNAME:NST
DTSTART:20231105T043000
END:STANDARD
BEGIN:DAYLIGHT
TZOFFSETFROM:-0330
TZOFFSETTO:-0230
TZNAME:NDT
DTSTART:20240310T053000
END:DAYLIGHT
BEGIN:STANDARD
TZOFFSETFROM:-0230
TZOFFSETTO:-0330
TZNAME:NST
DTSTART:20241103T043000
END:STANDARD
END:VTIMEZONE
BEGIN:VEVENT
DTSTART;TZID=America/St_Johns:20230806T160000
DTEND;TZID=America/St_Johns:20230806T170000
DTSTAMP:20260423T100855
CREATED:20230717T125951Z
LAST-MODIFIED:20230725T203618Z
UID:1847-1691337600-1691341200@tuckamorefestival.ca
SUMMARY:Tuckamore Talks: Music and Death
DESCRIPTION:Come and join Tuckamore Festival’s resident music theorist Joe Argentino at Bannerman Brewery for a free\, fun-filled\, and engaging talk on why composers have gravitated towards certain musical gestures and keys when writing music about mortality.  His talk\, entitled MUSIC & DEATH\, will feature works by Mozart\, Berlioz\, Tears for Fears\, and many more! Don’t miss this multimedia presentation – it’s going to be deadly!
URL:https://tuckamorefestival.ca/event/tuckamore-talks-music-and-death/
LOCATION:Bannerman Brewing Co\, 90 Duckworth St.\, St. John's\, NL\, A1C 1E7\, Canada
CATEGORIES:Free,Masterclasses & Talks
ATTACH;FMTTYPE=image/webp:https://tuckamorefestival.ca/wordpress/wp-content/uploads/yMiN6Egt-800x533-stratum_web_optimized_jpeg-.webp
END:VEVENT
BEGIN:VEVENT
DTSTART;TZID=America/St_Johns:20230809T140000
DTEND;TZID=America/St_Johns:20230809T160000
DTSTAMP:20260423T100855
CREATED:20230615T133053Z
LAST-MODIFIED:20230615T133053Z
UID:1564-1691589600-1691596800@tuckamorefestival.ca
SUMMARY:Young Artist Masterclass with Erika Raum
DESCRIPTION:Our 2023 Young Artists perform and receive invaluable coaching from this incredible Canadian Violinist. This masterclass is free and open to the public\, so we hope to see you there!
URL:https://tuckamorefestival.ca/event/young-artist-masterclass-with-erika-raum/
LOCATION:D.F. Cook Recital Hall\, Memorial University of Newfoundland - School of Music\, St. John's\, NL\, A1C 5S7\, Canada
CATEGORIES:Free,Masterclasses & Talks
ATTACH;FMTTYPE=image/jpeg:https://tuckamorefestival.ca/wordpress/wp-content/uploads/erika_raum_3-crop-u45864.jpg
END:VEVENT
BEGIN:VEVENT
DTSTART;TZID=America/St_Johns:20230810T140000
DTEND;TZID=America/St_Johns:20230810T160000
DTSTAMP:20260423T100855
CREATED:20230615T133332Z
LAST-MODIFIED:20230624T145054Z
UID:1568-1691676000-1691683200@tuckamorefestival.ca
SUMMARY:Young Artist Masterclass with Amadi Azikiwe
DESCRIPTION:Witness this New York City violist coach the 2023 Young Artists through performances in D.F. Cook Recital Hall. This masterclass is free and open to the public\, so we hope to see you there!
URL:https://tuckamorefestival.ca/event/young-artist-masterclass-with-amadi-azikiwe/
LOCATION:D.F. Cook Recital Hall\, Memorial University of Newfoundland - School of Music\, St. John's\, NL\, A1C 5S7\, Canada
CATEGORIES:Free,Masterclasses & Talks
ATTACH;FMTTYPE=image/png:https://tuckamorefestival.ca/wordpress/wp-content/uploads/Untitled-2-1.png
END:VEVENT
BEGIN:VEVENT
DTSTART;TZID=America/St_Johns:20230815T100000
DTEND;TZID=America/St_Johns:20230815T120000
DTSTAMP:20260423T100855
CREATED:20230615T134939Z
LAST-MODIFIED:20230624T145618Z
UID:1572-1692093600-1692100800@tuckamorefestival.ca
SUMMARY:Masterclass with the Pacifica Quartet
DESCRIPTION:Our six chamber groups receive feedback and mentorship from the individual members of the Pacifica Quartet following live performances. This masterclass will take place at the Memorial University School of Music and is open to the public. 
URL:https://tuckamorefestival.ca/event/masterclass-with-the-pacifica-quartet/
LOCATION:MUN School of Music\, Burtons Pond Rd\, St. John's\, Newfoundland and Labrador\, A1C 5S7\, Canada
CATEGORIES:Free,Masterclasses & Talks
ATTACH;FMTTYPE=image/png:https://tuckamorefestival.ca/wordpress/wp-content/uploads/Untitled-2-2.png
END:VEVENT
BEGIN:VEVENT
DTSTART;TZID=America/St_Johns:20230816T110000
DTEND;TZID=America/St_Johns:20230816T123000
DTSTAMP:20260423T100855
CREATED:20230615T135608Z
LAST-MODIFIED:20230615T142724Z
UID:1575-1692183600-1692189000@tuckamorefestival.ca
SUMMARY:Children's Concert with Pacifica Quartet
DESCRIPTION:This fun and engaging event for the entire family features the award-winning Pacifica Quartet in the beautiful atrium at The Rooms. 
URL:https://tuckamorefestival.ca/event/childrens-concert-with-pacifica-quartet/
LOCATION:The Rooms\, 9 Bonaventure Ave\, St. John's\, NL\, A1C 5P9
CATEGORIES:Free,Masterclasses & Talks
ATTACH;FMTTYPE=image/jpeg:https://tuckamorefestival.ca/wordpress/wp-content/uploads/rooms-exterior-2019-11crop-2.jpg
END:VEVENT
BEGIN:VEVENT
DTSTART;TZID=America/St_Johns:20230819T100000
DTEND;TZID=America/St_Johns:20230819T110000
DTSTAMP:20260423T100855
CREATED:20230615T140339Z
LAST-MODIFIED:20230624T224552Z
UID:1581-1692439200-1692442800@tuckamorefestival.ca
SUMMARY:Q&A With Marc-André Hamelin
DESCRIPTION:Join our young pianists and chamber groups for this incredible free opportunity to gain insight from the legendary Canadian Pianist\, Marc-André Hamelin. 
URL:https://tuckamorefestival.ca/event/qa-with-marc-andre-hamelin/
LOCATION:D.F. Cook Recital Hall\, Memorial University of Newfoundland - School of Music\, St. John's\, NL\, A1C 5S7\, Canada
CATEGORIES:Free,Masterclasses & Talks
ATTACH;FMTTYPE=image/png:https://tuckamorefestival.ca/wordpress/wp-content/uploads/Untitled-3.png
END:VEVENT
END:VCALENDAR