BEGIN:VCALENDAR
VERSION:2.0
PRODID:-//Tuckamore Chamber Music Festival - ECPv6.15.20//NONSGML v1.0//EN
CALSCALE:GREGORIAN
METHOD:PUBLISH
X-ORIGINAL-URL:https://tuckamorefestival.ca
X-WR-CALDESC:Events for Tuckamore Chamber Music Festival
REFRESH-INTERVAL;VALUE=DURATION:PT1H
X-Robots-Tag:noindex
X-PUBLISHED-TTL:PT1H
BEGIN:VTIMEZONE
TZID:America/St_Johns
BEGIN:DAYLIGHT
TZOFFSETFROM:-0330
TZOFFSETTO:-0230
TZNAME:NDT
DTSTART:20210314T053000
END:DAYLIGHT
BEGIN:STANDARD
TZOFFSETFROM:-0230
TZOFFSETTO:-0330
TZNAME:NST
DTSTART:20211107T043000
END:STANDARD
BEGIN:DAYLIGHT
TZOFFSETFROM:-0330
TZOFFSETTO:-0230
TZNAME:NDT
DTSTART:20220313T053000
END:DAYLIGHT
BEGIN:STANDARD
TZOFFSETFROM:-0230
TZOFFSETTO:-0330
TZNAME:NST
DTSTART:20221106T043000
END:STANDARD
BEGIN:DAYLIGHT
TZOFFSETFROM:-0330
TZOFFSETTO:-0230
TZNAME:NDT
DTSTART:20230312T053000
END:DAYLIGHT
BEGIN:STANDARD
TZOFFSETFROM:-0230
TZOFFSETTO:-0330
TZNAME:NST
DTSTART:20231105T043000
END:STANDARD
END:VTIMEZONE
BEGIN:VEVENT
DTSTART;VALUE=DATE:20220805
DTEND;VALUE=DATE:20220808
DTSTAMP:20260425T201524
CREATED:20220414T141542Z
LAST-MODIFIED:20220623T181708Z
UID:963-1659657600-1659916799@tuckamorefestival.ca
SUMMARY:Tuckamore Celebration Weekend
DESCRIPTION:2022 is the year to celebrate Coming Home! \nJoin the Tuckamore Festival for a pre-festival celebration full of music and more – three days of exciting performances\, workshops\, and talks\, held at various locations in charming St. John’s. All ages welcome\, and all events are free! \nFriday August 5\n7:30pm Comedic Concert with Christopher Hall and Friends | First Light Centre for Performance and Creativity \nSaturday August 6\n11:00am Songwriting Workshop with the Swinging Belles | The Rooms \n3:00pm Family Concert with the Swinging Belles | Bannerman Park Gazebo (Outdoor event) \n6:00pm Community Singalong with the Nordic Voices | Anglican Cathedral of St. John the Baptist \nSunday August 7\n4:00pm Tuckamore Talks with Joe Argentino\, Memorial University School of Music \n7:30pm Gryphon Trio\, Nordic Voices and Marion Newman\, First Light Centre for Performance and Creativity ($10 suggested donation) \n \nThe Tuckamore Celebration Weekend was made possible through the support of the Government of Newfoundland and Labrador
URL:https://tuckamorefestival.ca/event/tuckamore-celebration-weekend/
LOCATION:Newfoundland and Labrador
CATEGORIES:Free,Masterclasses & Talks
ATTACH;FMTTYPE=image/jpeg:https://tuckamorefestival.ca/wordpress/wp-content/uploads/Tuckamore-WKEND-IN-FEED-2022-1080x1080_C-1.jpg
END:VEVENT
BEGIN:VEVENT
DTSTART;TZID=America/St_Johns:20220807T160000
DTEND;TZID=America/St_Johns:20220807T170000
DTSTAMP:20260425T201524
CREATED:20220714T132356Z
LAST-MODIFIED:20220804T131640Z
UID:1231-1659888000-1659891600@tuckamorefestival.ca
SUMMARY:Tuckamore Talks: Sight as Sound
DESCRIPTION:Sight as Sound: join festival music theorist Joe Argentino and discover how visual images sculpt our musical landscapes. A free event\, part of the Tuckamore Celebration weekend.
URL:https://tuckamorefestival.ca/event/tuckamore-talks-with-joe-argentino/
LOCATION:Suncor Energy Hall\, Memorial University of Newfoundland - School of Music\, St. John's\, NL\, A1C 5S7\, Canada
CATEGORIES:Free,Masterclasses & Talks
ATTACH;FMTTYPE=image/jpeg:https://tuckamorefestival.ca/wordpress/wp-content/uploads/Joe-Argentino.jpg
END:VEVENT
BEGIN:VEVENT
DTSTART;TZID=America/St_Johns:20220809T140000
DTEND;TZID=America/St_Johns:20220809T160000
DTSTAMP:20260425T201524
CREATED:20220608T181643Z
LAST-MODIFIED:20220608T181951Z
UID:1075-1660053600-1660060800@tuckamorefestival.ca
SUMMARY:Young Artist Masterclass with Katherine Fong
DESCRIPTION:Three Young Artist Performer groups work with guest violinist\, the NYC-based Katherine Fong. Open to the public.
URL:https://tuckamorefestival.ca/event/young-artist-masterclass-with-katherine-fong/
LOCATION:Suncor Energy Hall\, Memorial University of Newfoundland - School of Music\, St. John's\, NL\, A1C 5S7\, Canada
CATEGORIES:Free,Masterclasses & Talks
ATTACH;FMTTYPE=image/jpeg:https://tuckamorefestival.ca/wordpress/wp-content/uploads/Katherine-Fong-cred-Rose-Callahan.jpg
END:VEVENT
BEGIN:VEVENT
DTSTART;TZID=America/St_Johns:20220810T100000
DTEND;TZID=America/St_Johns:20220810T130000
DTSTAMP:20260425T201524
CREATED:20220608T182114Z
LAST-MODIFIED:20220713T200455Z
UID:1080-1660125600-1660136400@tuckamorefestival.ca
SUMMARY:Young Artist Masterclass with Janina Fialkowska
DESCRIPTION:PLEASE NOTE: Revised time of 10:00am. \nOur 2022 young pianists work one-on-one with this celebrated concert artist. Open to the public.
URL:https://tuckamorefestival.ca/event/young-artist-masterclass-with-janina-fialkowska/
LOCATION:D.F. Cook Recital Hall\, Memorial University of Newfoundland - School of Music\, St. John's\, NL\, A1C 5S7\, Canada
CATEGORIES:Free,Masterclasses & Talks
ATTACH;FMTTYPE=image/jpeg:https://tuckamorefestival.ca/wordpress/wp-content/uploads/Janina-Fialkowska.jpg
END:VEVENT
BEGIN:VEVENT
DTSTART;TZID=America/St_Johns:20220811T140000
DTEND;TZID=America/St_Johns:20220811T160000
DTSTAMP:20260425T201524
CREATED:20220608T181838Z
LAST-MODIFIED:20220608T181857Z
UID:1077-1660226400-1660233600@tuckamorefestival.ca
SUMMARY:Young Artist Masterclass with Dov Scheindlin
DESCRIPTION:Three Young Artist Performer groups work on their repertoire with guest violist\, Dov Scheindlin. Open to the public.
URL:https://tuckamorefestival.ca/event/young-artist-masterclass-with-dov-scheindlin/
LOCATION:Suncor Energy Hall\, Memorial University of Newfoundland - School of Music\, St. John's\, NL\, A1C 5S7\, Canada
CATEGORIES:Free,Masterclasses & Talks
ATTACH;FMTTYPE=image/jpeg:https://tuckamorefestival.ca/wordpress/wp-content/uploads/Dov-Scheindlin-e1654712307817.jpg
END:VEVENT
BEGIN:VEVENT
DTSTART;TZID=America/St_Johns:20220814T160000
DTEND;TZID=America/St_Johns:20220814T170000
DTSTAMP:20260425T201524
CREATED:20220714T132746Z
LAST-MODIFIED:20220804T130803Z
UID:1233-1660492800-1660496400@tuckamorefestival.ca
SUMMARY:Tuckamore Talks: Fire\, Water\, Earth\, and Air
DESCRIPTION:Fire\, Water\, Earth\, and Air: faculty music theorist Joe Argentino explores the many ways the four elements are depicted in music. Grab a pint and catch this engaging chat about music in one of the city’s hottest locales! Free event. \nPlease note\, Bannerman Brewing Co Event Space is on the second floor of the building and only accessible by stairs.
URL:https://tuckamorefestival.ca/event/tuckamore-talks-with-joe-argentino-2/
LOCATION:Bannerman Brewing Co\, 90 Duckworth St.\, St. John's\, NL\, A1C 1E7\, Canada
CATEGORIES:Free,Masterclasses & Talks
ATTACH;FMTTYPE=image/jpeg:https://tuckamorefestival.ca/wordpress/wp-content/uploads/Joe-Argentino.jpg
END:VEVENT
BEGIN:VEVENT
DTSTART;TZID=America/St_Johns:20220816T100000
DTEND;TZID=America/St_Johns:20220816T120000
DTSTAMP:20260425T201524
CREATED:20220608T182643Z
LAST-MODIFIED:20220608T182643Z
UID:1082-1660644000-1660651200@tuckamorefestival.ca
SUMMARY:Young Artist Masterclass with the Verona Quartet
DESCRIPTION:Our six chamber groups receive invaluable coaching and mentorship from the individual members the Verona Quartet. Various locations at Memorial University\, School of Music. Open to the public.
URL:https://tuckamorefestival.ca/event/young-artist-masterclass-with-the-verona-quartet/
LOCATION:D.F. Cook Recital Hall\, Memorial University of Newfoundland - School of Music\, St. John's\, NL\, A1C 5S7\, Canada
CATEGORIES:Free,Masterclasses & Talks
ATTACH;FMTTYPE=image/jpeg:https://tuckamorefestival.ca/wordpress/wp-content/uploads/Veronas-Laughing-e1654711408963.jpg
END:VEVENT
BEGIN:VEVENT
DTSTART;TZID=America/St_Johns:20220820T100000
DTEND;TZID=America/St_Johns:20220820T123000
DTSTAMP:20260425T201524
CREATED:20220608T182915Z
LAST-MODIFIED:20220608T182915Z
UID:1085-1660989600-1660998600@tuckamorefestival.ca
SUMMARY:Young Artist Masterclass with Robert Kortgaard
DESCRIPTION:Our young pianists and chamber groups receive coaching from guest pianist and sought-after collaborative musician\, Robert Kortgaard. Open to the public.
URL:https://tuckamorefestival.ca/event/young-artist-masterclass-with-robert-kortgaard/
LOCATION:D.F. Cook Recital Hall\, Memorial University of Newfoundland - School of Music\, St. John's\, NL\, A1C 5S7\, Canada
CATEGORIES:Free,Masterclasses & Talks
ATTACH;FMTTYPE=image/jpeg:https://tuckamorefestival.ca/wordpress/wp-content/uploads/Robert-Kortgaard.jpg
END:VEVENT
BEGIN:VEVENT
DTSTART;TZID=America/St_Johns:20220820T130000
DTEND;TZID=America/St_Johns:20220820T150000
DTSTAMP:20260425T201524
CREATED:20220713T201149Z
LAST-MODIFIED:20220713T201212Z
UID:1228-1661000400-1661007600@tuckamorefestival.ca
SUMMARY:Community Masterclass with Julie Nesrallah
DESCRIPTION:Local young classical singers receive coaching from mezzo-soprano Julie Nesrallah\, one of Canada’s foremost interpreters of Bizet opera. Open to the public.
URL:https://tuckamorefestival.ca/event/community-masterclass-with-julie-nesrallah/
LOCATION:D.F. Cook Recital Hall\, Memorial University of Newfoundland - School of Music\, St. John's\, NL\, A1C 5S7\, Canada
CATEGORIES:Free,Masterclasses & Talks
ATTACH;FMTTYPE=image/png:https://tuckamorefestival.ca/wordpress/wp-content/uploads/Julie-Nesrallah-Square.png
END:VEVENT
END:VCALENDAR