BEGIN:VCALENDAR
VERSION:2.0
PRODID:-//Tuckamore Chamber Music Festival - ECPv6.15.20//NONSGML v1.0//EN
CALSCALE:GREGORIAN
METHOD:PUBLISH
X-ORIGINAL-URL:https://tuckamorefestival.ca
X-WR-CALDESC:Events for Tuckamore Chamber Music Festival
REFRESH-INTERVAL;VALUE=DURATION:PT1H
X-Robots-Tag:noindex
X-PUBLISHED-TTL:PT1H
BEGIN:VTIMEZONE
TZID:America/St_Johns
BEGIN:DAYLIGHT
TZOFFSETFROM:-0330
TZOFFSETTO:-0230
TZNAME:NDT
DTSTART:20240310T053000
END:DAYLIGHT
BEGIN:STANDARD
TZOFFSETFROM:-0230
TZOFFSETTO:-0330
TZNAME:NST
DTSTART:20241103T043000
END:STANDARD
BEGIN:DAYLIGHT
TZOFFSETFROM:-0330
TZOFFSETTO:-0230
TZNAME:NDT
DTSTART:20250309T053000
END:DAYLIGHT
BEGIN:STANDARD
TZOFFSETFROM:-0230
TZOFFSETTO:-0330
TZNAME:NST
DTSTART:20251102T043000
END:STANDARD
BEGIN:DAYLIGHT
TZOFFSETFROM:-0330
TZOFFSETTO:-0230
TZNAME:NDT
DTSTART:20260308T053000
END:DAYLIGHT
BEGIN:STANDARD
TZOFFSETFROM:-0230
TZOFFSETTO:-0330
TZNAME:NST
DTSTART:20261101T043000
END:STANDARD
END:VTIMEZONE
BEGIN:VEVENT
DTSTART;TZID=America/St_Johns:20250705T110000
DTEND;TZID=America/St_Johns:20250705T110000
DTSTAMP:20260420T074645
CREATED:20250428T200437Z
LAST-MODIFIED:20250428T200437Z
UID:2725-1751713200-1751713200@tuckamorefestival.ca
SUMMARY:Adaptive Concert by Schmaltz & Pepper
DESCRIPTION:A welcoming and inclusive performance by the brilliant Schmaltz & Pepper designed for those with sensory sensitivities and exceptionalities\, including neurodivergent children and adults\, as well as those with disabilities. \nPlease use the ‘Reserve my Spot’ link if you would like to attend this event.
URL:https://tuckamorefestival.ca/event/adaptive-concert-by-schmaltz-pepper/
LOCATION:Suncor Energy Hall\, Memorial University of Newfoundland - School of Music\, St. John's\, NL\, A1C 5S7\, Canada
CATEGORIES:Free,Guest Artist Series
ATTACH;FMTTYPE=image/webp:https://tuckamorefestival.ca/wordpress/wp-content/uploads/adaptive.webp
END:VEVENT
BEGIN:VEVENT
DTSTART;TZID=America/St_Johns:20250705T193000
DTEND;TZID=America/St_Johns:20250705T213000
DTSTAMP:20260420T074645
CREATED:20250428T200443Z
LAST-MODIFIED:20250606T124838Z
UID:2642-1751743800-1751751000@tuckamorefestival.ca
SUMMARY:Schmaltz & Pepper
DESCRIPTION:A Klezmer super group of musical brilliance and breathtaking artistry. \nSchmaltz & Pepper is a spellbinding Yiddish music ensemble playing Klezmer inspired by jazz\, Roma\, classical\, and European folk music. This powerhouse group’s members include acclaimed Toronto Symphony principal clarinetist Eric Abramovitz\, a passionate and gifted klezmer musician\, and Grammy-nominated Drew Jurecka on violin/accordion/mandolin. Joined by JUNO-winning pianist Jeremy Ledbetter (CaneFire)\, JUNO-nominated bassist Michael Herring\, and renowned Payadora founder/violinist/vocalist Rebekah Wolkstein\, they produce and perform original arrangements of klezmer and Yiddish music\, displaying their joyous and virtuosic genre-bending fusion of many musical styles. 
URL:https://tuckamorefestival.ca/event/schmaltz-pepper/
LOCATION:The Majestic Theatre\, 390 Duckworth Street\, St. John's\, Newfoundland\, A1C 1H8\, Canada
CATEGORIES:Guest Artist Series,Ticketed
ATTACH;FMTTYPE=image/webp:https://tuckamorefestival.ca/wordpress/wp-content/uploads/Schmaltz-1.webp
END:VEVENT
END:VCALENDAR