BEGIN:VCALENDAR
VERSION:2.0
PRODID:-//Tuckamore Chamber Music Festival - ECPv6.15.20//NONSGML v1.0//EN
CALSCALE:GREGORIAN
METHOD:PUBLISH
X-ORIGINAL-URL:https://tuckamorefestival.ca
X-WR-CALDESC:Events for Tuckamore Chamber Music Festival
REFRESH-INTERVAL;VALUE=DURATION:PT1H
X-Robots-Tag:noindex
X-PUBLISHED-TTL:PT1H
BEGIN:VTIMEZONE
TZID:America/St_Johns
BEGIN:DAYLIGHT
TZOFFSETFROM:-0330
TZOFFSETTO:-0230
TZNAME:NDT
DTSTART:20240310T053000
END:DAYLIGHT
BEGIN:STANDARD
TZOFFSETFROM:-0230
TZOFFSETTO:-0330
TZNAME:NST
DTSTART:20241103T043000
END:STANDARD
BEGIN:DAYLIGHT
TZOFFSETFROM:-0330
TZOFFSETTO:-0230
TZNAME:NDT
DTSTART:20250309T053000
END:DAYLIGHT
BEGIN:STANDARD
TZOFFSETFROM:-0230
TZOFFSETTO:-0330
TZNAME:NST
DTSTART:20251102T043000
END:STANDARD
BEGIN:DAYLIGHT
TZOFFSETFROM:-0330
TZOFFSETTO:-0230
TZNAME:NDT
DTSTART:20260308T053000
END:DAYLIGHT
BEGIN:STANDARD
TZOFFSETFROM:-0230
TZOFFSETTO:-0330
TZNAME:NST
DTSTART:20261101T043000
END:STANDARD
END:VTIMEZONE
BEGIN:VEVENT
DTSTART;TZID=America/St_Johns:20250620T193000
DTEND;TZID=America/St_Johns:20250620T213000
DTSTAMP:20260423T120007
CREATED:20250428T193953Z
LAST-MODIFIED:20250501T235010Z
UID:2618-1750447800-1750455000@tuckamorefestival.ca
SUMMARY:Music Made Visual: Three short art films featuring music performed by Duo Concertante
DESCRIPTION:A 25th Anniversary Event for Festival Passholders \nWorks by Brahms\, Shostakovich\, and Alice Ho inspired visual artist and filmmaker Nicola Hawkins to turn music into story and imagery. The resulting three films will be presented together\, followed by a discussion with the artists.  \nThis event is FREE with the purchase of a season pass.  Registration required. Register HERE \n  \n\nBIRDS two by two (world premiere)- Shostakovich Piano Trio no. 1 with cellist Heather Tuach \nScored by Time – Brahms Violin Sonata in G major with Evelyn Hart  \nFree Fall – Alice Ho Cœur a Cœur
URL:https://tuckamorefestival.ca/event/music-made-visual-three-short-art-films-featuring-music-performed-by-duo-concertante/
LOCATION:Suncor Energy Hall\, Memorial University of Newfoundland - School of Music\, St. John's\, NL\, A1C 5S7\, Canada
CATEGORIES:25th anniversary event,Free,Tuckamore Faculty
ATTACH;FMTTYPE=image/webp:https://tuckamorefestival.ca/wordpress/wp-content/uploads/MASTERCLASSES-AND-OTHERS-2025-WEBSITE-copy.webp
END:VEVENT
END:VCALENDAR