BEGIN:VCALENDAR
VERSION:2.0
PRODID:-//Tuckamore Chamber Music Festival - ECPv6.15.20//NONSGML v1.0//EN
CALSCALE:GREGORIAN
METHOD:PUBLISH
X-WR-CALNAME:Tuckamore Chamber Music Festival
X-ORIGINAL-URL:https://tuckamorefestival.ca
X-WR-CALDESC:Events for Tuckamore Chamber Music Festival
REFRESH-INTERVAL;VALUE=DURATION:PT1H
X-Robots-Tag:noindex
X-PUBLISHED-TTL:PT1H
BEGIN:VTIMEZONE
TZID:America/St_Johns
BEGIN:DAYLIGHT
TZOFFSETFROM:-0330
TZOFFSETTO:-0230
TZNAME:NDT
DTSTART:20240310T053000
END:DAYLIGHT
BEGIN:STANDARD
TZOFFSETFROM:-0230
TZOFFSETTO:-0330
TZNAME:NST
DTSTART:20241103T043000
END:STANDARD
BEGIN:DAYLIGHT
TZOFFSETFROM:-0330
TZOFFSETTO:-0230
TZNAME:NDT
DTSTART:20250309T053000
END:DAYLIGHT
BEGIN:STANDARD
TZOFFSETFROM:-0230
TZOFFSETTO:-0330
TZNAME:NST
DTSTART:20251102T043000
END:STANDARD
BEGIN:DAYLIGHT
TZOFFSETFROM:-0330
TZOFFSETTO:-0230
TZNAME:NDT
DTSTART:20260308T053000
END:DAYLIGHT
BEGIN:STANDARD
TZOFFSETFROM:-0230
TZOFFSETTO:-0330
TZNAME:NST
DTSTART:20261101T043000
END:STANDARD
END:VTIMEZONE
BEGIN:VEVENT
DTSTART;TZID=America/St_Johns:20250619T123000
DTEND;TZID=America/St_Johns:20250619T133000
DTSTAMP:20260423T115912
CREATED:20250428T193948Z
LAST-MODIFIED:20250428T193948Z
UID:2615-1750336200-1750339800@tuckamorefestival.ca
SUMMARY:Prelude Concert with Patrick Cashin\, piano
DESCRIPTION:One of the festival’s outstanding alumni and longtime faculty member\, Patrick Cashin\, presents a program of solo piano works by Bach\, Ravel\, and Brahms.  \n  \n\nBach: Partita No. 1 in B-flat major\, BWV 825 \nRavel: Le Tombeau de Couperin (selections) \nBach: Prelude & Fugue in G minor\, BWV 861\, The Well-Tempered Clavier\, book I \nBrahms: Rhapsody in G minor\, Op. 79\, No. 2              \nBrahms: Finale from Sonata in F minor\, Op. 5
URL:https://tuckamorefestival.ca/event/prelude-concert-with-patrick-cashin-piano/
LOCATION:Anglican Cathedral\, 16 Church Hill\, St. John's\, NL\, A1C 3Z9\, Canada
CATEGORIES:Free,Tuckamore Faculty
ATTACH;FMTTYPE=image/jpeg:https://tuckamorefestival.ca/wordpress/wp-content/uploads/2-2.jpg
END:VEVENT
END:VCALENDAR