BEGIN:VCALENDAR
VERSION:2.0
PRODID:-//Tuckamore Chamber Music Festival - ECPv6.15.20//NONSGML v1.0//EN
CALSCALE:GREGORIAN
METHOD:PUBLISH
X-ORIGINAL-URL:https://tuckamorefestival.ca
X-WR-CALDESC:Events for Tuckamore Chamber Music Festival
REFRESH-INTERVAL;VALUE=DURATION:PT1H
X-Robots-Tag:noindex
X-PUBLISHED-TTL:PT1H
BEGIN:VTIMEZONE
TZID:America/St_Johns
BEGIN:DAYLIGHT
TZOFFSETFROM:-0330
TZOFFSETTO:-0230
TZNAME:NDT
DTSTART:20230312T053000
END:DAYLIGHT
BEGIN:STANDARD
TZOFFSETFROM:-0230
TZOFFSETTO:-0330
TZNAME:NST
DTSTART:20231105T043000
END:STANDARD
BEGIN:DAYLIGHT
TZOFFSETFROM:-0330
TZOFFSETTO:-0230
TZNAME:NDT
DTSTART:20240310T053000
END:DAYLIGHT
BEGIN:STANDARD
TZOFFSETFROM:-0230
TZOFFSETTO:-0330
TZNAME:NST
DTSTART:20241103T043000
END:STANDARD
BEGIN:DAYLIGHT
TZOFFSETFROM:-0330
TZOFFSETTO:-0230
TZNAME:NDT
DTSTART:20250309T053000
END:DAYLIGHT
BEGIN:STANDARD
TZOFFSETFROM:-0230
TZOFFSETTO:-0330
TZNAME:NST
DTSTART:20251102T043000
END:STANDARD
BEGIN:DAYLIGHT
TZOFFSETFROM:-0330
TZOFFSETTO:-0230
TZNAME:NDT
DTSTART:20260308T053000
END:DAYLIGHT
BEGIN:STANDARD
TZOFFSETFROM:-0230
TZOFFSETTO:-0330
TZNAME:NST
DTSTART:20261101T043000
END:STANDARD
END:VTIMEZONE
BEGIN:VEVENT
DTSTART;TZID=America/St_Johns:20240808T123000
DTEND;TZID=America/St_Johns:20240808T133000
DTSTAMP:20260421T164725
CREATED:20240612T125006Z
LAST-MODIFIED:20240612T125006Z
UID:2138-1723120200-1723123800@tuckamorefestival.ca
SUMMARY:Lunchtime Concert with the Young Artists II
DESCRIPTION:Our second Lunchtime Concert for the season will feature solo and chamber music performed by our 2024 Young Artists. A live concert in this historic church is a treat for performers and audiences alike! \nAdmission by donation.
URL:https://tuckamorefestival.ca/event/lunchtime-concert-with-the-young-artists-ii/
LOCATION:Anglican Cathedral\, 16 Church Hill\, St. John's\, NL\, A1C 3Z9\, Canada
CATEGORIES:Admission by donation,Young Artist Series
ATTACH;FMTTYPE=image/png:https://tuckamorefestival.ca/wordpress/wp-content/uploads/Event-Posters-2024-7.png
END:VEVENT
BEGIN:VEVENT
DTSTART;TZID=America/St_Johns:20240814T123000
DTEND;TZID=America/St_Johns:20240814T133000
DTSTAMP:20260421T164725
CREATED:20240612T174346Z
LAST-MODIFIED:20240612T174346Z
UID:2179-1723638600-1723642200@tuckamorefestival.ca
SUMMARY:Lunchtime Concert with the Young Artists III
DESCRIPTION:The third installment in our Lunchtime Recital series will feature an uplifting hour of diverse solo and chamber music performed by our talented 2024 Young Artists! \nAdmission by donation.
URL:https://tuckamorefestival.ca/event/lunchtime-concert-with-the-young-artists-iii/
LOCATION:Anglican Cathedral\, 16 Church Hill\, St. John's\, NL\, A1C 3Z9\, Canada
CATEGORIES:Admission by donation,Young Artist Series
ATTACH;FMTTYPE=image/png:https://tuckamorefestival.ca/wordpress/wp-content/uploads/Event-Posters-2024-19.png
END:VEVENT
BEGIN:VEVENT
DTSTART;TZID=America/St_Johns:20240815T123000
DTEND;TZID=America/St_Johns:20240815T133000
DTSTAMP:20260421T164725
CREATED:20240612T180746Z
LAST-MODIFIED:20240612T180746Z
UID:2189-1723725000-1723728600@tuckamorefestival.ca
SUMMARY:Lunchtime Concert with the Young Artists IV
DESCRIPTION:This event will mark the fourth and final lunchtime concert with our 2024 Young Artists – the finale of one of our most-loved series’ of the season! Spend an hour experiencing glorious chamber and solo performances in this historic cathedral. \nAdmission by donation.
URL:https://tuckamorefestival.ca/event/lunchtime-concert-with-the-young-artists-iv/
LOCATION:Anglican Cathedral\, 16 Church Hill\, St. John's\, NL\, A1C 3Z9\, Canada
CATEGORIES:Admission by donation,Young Artist Series
ATTACH;FMTTYPE=image/png:https://tuckamorefestival.ca/wordpress/wp-content/uploads/Event-Posters-2024-22.png
END:VEVENT
BEGIN:VEVENT
DTSTART;TZID=America/St_Johns:20240817T150000
DTEND;TZID=America/St_Johns:20240817T163000
DTSTAMP:20260421T164725
CREATED:20240612T182509Z
LAST-MODIFIED:20240612T182509Z
UID:2201-1723906800-1723912200@tuckamorefestival.ca
SUMMARY:Young Artists in Brigus
DESCRIPTION:We are thrilled to return to the much-loved St. George’s Heritage Church as part of our 24th festival.  Join our Young Artist Performers\, who will bring their talents to this historic community\, located in Conception Bay.
URL:https://tuckamorefestival.ca/event/young-artists-in-brigus-2/
LOCATION:St. George’s Heritage Church\, 37 Middle Ridge\, Brigus\, NL\, A0A 1K0\, Canada
CATEGORIES:Admission by donation,Young Artist Series
ATTACH;FMTTYPE=image/png:https://tuckamorefestival.ca/wordpress/wp-content/uploads/Event-Posters-2024-27.png
END:VEVENT
BEGIN:VEVENT
DTSTART;TZID=America/St_Johns:20250625T123000
DTEND;TZID=America/St_Johns:20250625T133000
DTSTAMP:20260421T164725
CREATED:20250428T194802Z
LAST-MODIFIED:20250619T185817Z
UID:2805-1750854600-1750858200@tuckamorefestival.ca
SUMMARY:Young Artists Lunchtime Concert I
DESCRIPTION:The Tuckamore Festival Young Artists demonstrate their artistry at these midday recitals in St. John’s majestic and historic church.
URL:https://tuckamorefestival.ca/event/young-artists-lunchtime-concert-i-2/
LOCATION:Anglican Cathedral\, 16 Church Hill\, St. John's\, NL\, A1C 3Z9\, Canada
CATEGORIES:Admission by donation,Young Artist Series
ATTACH;FMTTYPE=image/jpeg:https://tuckamorefestival.ca/wordpress/wp-content/uploads/L1.jpg
END:VEVENT
BEGIN:VEVENT
DTSTART;TZID=America/St_Johns:20250626T123000
DTEND;TZID=America/St_Johns:20250626T133000
DTSTAMP:20260421T164725
CREATED:20250428T194853Z
LAST-MODIFIED:20250620T022653Z
UID:2700-1750941000-1750944600@tuckamorefestival.ca
SUMMARY:Young Artists Lunchtime Concert II
DESCRIPTION:The Tuckamore Festival Young Artists demonstrate their artistry in solo and chamber settings on our midday recital series in this majestic and historic church. Admission by donation.
URL:https://tuckamorefestival.ca/event/young-artists-lunchtime-concert-ii/
LOCATION:Anglican Cathedral\, 16 Church Hill\, St. John's\, NL\, A1C 3Z9\, Canada
CATEGORIES:Admission by donation,Young Artist Series
ATTACH;FMTTYPE=image/jpeg:https://tuckamorefestival.ca/wordpress/wp-content/uploads/L2.jpg
END:VEVENT
BEGIN:VEVENT
DTSTART;TZID=America/St_Johns:20250702T123000
DTEND;TZID=America/St_Johns:20250702T133000
DTSTAMP:20260421T164725
CREATED:20250428T200411Z
LAST-MODIFIED:20250428T200411Z
UID:2717-1751459400-1751463000@tuckamorefestival.ca
SUMMARY:Young Artist Lunchtime Concert III
DESCRIPTION:The Tuckamore Festival Young Artists demonstrate their artistry in solo and chamber settings on our midday recital series in this majestic and historic church. Admission by donation.
URL:https://tuckamorefestival.ca/event/young-artist-lunchtime-concert-iii/
LOCATION:Anglican Cathedral\, 16 Church Hill\, St. John's\, NL\, A1C 3Z9\, Canada
CATEGORIES:Admission by donation,Young Artist Series
ATTACH;FMTTYPE=image/jpeg:https://tuckamorefestival.ca/wordpress/wp-content/uploads/L3.jpg
END:VEVENT
BEGIN:VEVENT
DTSTART;TZID=America/St_Johns:20250703T123000
DTEND;TZID=America/St_Johns:20250703T133000
DTSTAMP:20260421T164725
CREATED:20250428T200423Z
LAST-MODIFIED:20250620T022606Z
UID:2721-1751545800-1751549400@tuckamorefestival.ca
SUMMARY:Young Artist Lunchtime Concert IV
DESCRIPTION:The Tuckamore Festival Young Artists demonstrate their artistry in solo and chamber settings on our midday recital series in this majestic and historic church. Admission by donation.
URL:https://tuckamorefestival.ca/event/young-artist-lunchtime-concert-iv/
LOCATION:Anglican Cathedral\, 16 Church Hill\, St. John's\, NL\, A1C 3Z9\, Canada
CATEGORIES:Admission by donation,Young Artist Series
ATTACH;FMTTYPE=image/jpeg:https://tuckamorefestival.ca/wordpress/wp-content/uploads/L4.jpg
END:VEVENT
END:VCALENDAR