BEGIN:VCALENDAR
VERSION:2.0
PRODID:-//Tuckamore Chamber Music Festival - ECPv6.15.20//NONSGML v1.0//EN
CALSCALE:GREGORIAN
METHOD:PUBLISH
X-ORIGINAL-URL:https://tuckamorefestival.ca
X-WR-CALDESC:Events for Tuckamore Chamber Music Festival
REFRESH-INTERVAL;VALUE=DURATION:PT1H
X-Robots-Tag:noindex
X-PUBLISHED-TTL:PT1H
BEGIN:VTIMEZONE
TZID:America/St_Johns
BEGIN:DAYLIGHT
TZOFFSETFROM:-0330
TZOFFSETTO:-0230
TZNAME:NDT
DTSTART:20220313T053000
END:DAYLIGHT
BEGIN:STANDARD
TZOFFSETFROM:-0230
TZOFFSETTO:-0330
TZNAME:NST
DTSTART:20221106T043000
END:STANDARD
BEGIN:DAYLIGHT
TZOFFSETFROM:-0330
TZOFFSETTO:-0230
TZNAME:NDT
DTSTART:20230312T053000
END:DAYLIGHT
BEGIN:STANDARD
TZOFFSETFROM:-0230
TZOFFSETTO:-0330
TZNAME:NST
DTSTART:20231105T043000
END:STANDARD
BEGIN:DAYLIGHT
TZOFFSETFROM:-0330
TZOFFSETTO:-0230
TZNAME:NDT
DTSTART:20240310T053000
END:DAYLIGHT
BEGIN:STANDARD
TZOFFSETFROM:-0230
TZOFFSETTO:-0330
TZNAME:NST
DTSTART:20241103T043000
END:STANDARD
END:VTIMEZONE
BEGIN:VEVENT
DTSTART;TZID=America/St_Johns:20230814T193000
DTEND;TZID=America/St_Johns:20230814T210000
DTSTAMP:20260423T081200
CREATED:20230615T134847Z
LAST-MODIFIED:20230717T131947Z
UID:1481-1692041400-1692046800@tuckamorefestival.ca
SUMMARY:Pacifica Quartet
DESCRIPTION:This multiple Grammy award-winning quartet brings their exceptional virtuosity and exuberant performance style to the beautiful First Light Centre for Performance and Creativity in downtown St. John’s. \n\nString Quartet No. 1 in G Major                                              Florence Price \nQuartet No. 2 in F major\, Op. 92                                        Sergei Prokofiev \n–intermission– \nQuartet No. 15 in A minor\, Op. 132                         Ludwig van Beethoven
URL:https://tuckamorefestival.ca/event/pacifica-quartet/
LOCATION:First Light Centre for Performance and Creativity\, 81 Cochrane St.\, St. John's\, NL\, A1C 3L7\, Canada
CATEGORIES:Guest Artist Series,Ticketed
ATTACH;FMTTYPE=image/jpeg:https://tuckamorefestival.ca/wordpress/wp-content/uploads/Pacifica-Quartet-1_credit-Lisa-Marie-Mazzucco-scaled.jpeg
END:VEVENT
END:VCALENDAR