BEGIN:VCALENDAR
VERSION:2.0
PRODID:-//Tuckamore Chamber Music Festival - ECPv6.15.20//NONSGML v1.0//EN
CALSCALE:GREGORIAN
METHOD:PUBLISH
X-WR-CALNAME:Tuckamore Chamber Music Festival
X-ORIGINAL-URL:https://tuckamorefestival.ca
X-WR-CALDESC:Events for Tuckamore Chamber Music Festival
REFRESH-INTERVAL;VALUE=DURATION:PT1H
X-Robots-Tag:noindex
X-PUBLISHED-TTL:PT1H
BEGIN:VTIMEZONE
TZID:America/St_Johns
BEGIN:DAYLIGHT
TZOFFSETFROM:-0330
TZOFFSETTO:-0230
TZNAME:NDT
DTSTART:20220313T053000
END:DAYLIGHT
BEGIN:STANDARD
TZOFFSETFROM:-0230
TZOFFSETTO:-0330
TZNAME:NST
DTSTART:20221106T043000
END:STANDARD
BEGIN:DAYLIGHT
TZOFFSETFROM:-0330
TZOFFSETTO:-0230
TZNAME:NDT
DTSTART:20230312T053000
END:DAYLIGHT
BEGIN:STANDARD
TZOFFSETFROM:-0230
TZOFFSETTO:-0330
TZNAME:NST
DTSTART:20231105T043000
END:STANDARD
BEGIN:DAYLIGHT
TZOFFSETFROM:-0330
TZOFFSETTO:-0230
TZNAME:NDT
DTSTART:20240310T053000
END:DAYLIGHT
BEGIN:STANDARD
TZOFFSETFROM:-0230
TZOFFSETTO:-0330
TZNAME:NST
DTSTART:20241103T043000
END:STANDARD
END:VTIMEZONE
BEGIN:VEVENT
DTSTART;TZID=America/St_Johns:20230807T193000
DTEND;TZID=America/St_Johns:20230807T210000
DTSTAMP:20260423T080747
CREATED:20230615T132916Z
LAST-MODIFIED:20230717T131220Z
UID:1469-1691436600-1691442000@tuckamorefestival.ca
SUMMARY:Opening Night: Taking on Water
DESCRIPTION:We are kicking off the 2023 Tuckamore Festival with the premiere of a brand new work\, Taking on Water\, featuring actors Robert Chafe and Louise Moyes\, alongside Tuckamore Festival Artistic Directors Nancy Dahn and Timothy Steeves. In the fall of 2021 playwright Robert Chafe set out on an interview tour of eastern Newfoundland\, asking residents of coastal communities why they live where they live\, and how they might see their future. The response revealed tales of unprecedented challenge\, boundless optimism\, and some things stranger than fiction. Taking on Water marries the music of Randolph Peters as played by Duo Concertante with five original magic realism stories by Chafe\, that offer a new way to think about the love\, risk\, and resilience of living on the edge of a changing ocean. \nFollowed by a post-concert artist chat moderated by Annie Corrigan. \nTaking on Water is presented in collaboration with the Future Ocean and Coastal Infrastructures project. Research funding was provided by the Ocean Frontier Institute\, through an award from the Canada First Research Excellence Fund. \n\n 
URL:https://tuckamorefestival.ca/event/opening-night-taking-on-water/
LOCATION:D.F. Cook Recital Hall\, Memorial University of Newfoundland - School of Music\, St. John's\, NL\, A1C 5S7\, Canada
CATEGORIES:Guest Artist Series,Ticketed
ATTACH;FMTTYPE=image/png:https://tuckamorefestival.ca/wordpress/wp-content/uploads/Taking-on-Water-Image.png
END:VEVENT
END:VCALENDAR