BEGIN:VCALENDAR
VERSION:2.0
PRODID:-//Tuckamore Chamber Music Festival - ECPv6.15.20//NONSGML v1.0//EN
CALSCALE:GREGORIAN
METHOD:PUBLISH
X-ORIGINAL-URL:https://tuckamorefestival.ca
X-WR-CALDESC:Events for Tuckamore Chamber Music Festival
REFRESH-INTERVAL;VALUE=DURATION:PT1H
X-Robots-Tag:noindex
X-PUBLISHED-TTL:PT1H
BEGIN:VTIMEZONE
TZID:America/St_Johns
BEGIN:DAYLIGHT
TZOFFSETFROM:-0330
TZOFFSETTO:-0230
TZNAME:NDT
DTSTART:20220313T053000
END:DAYLIGHT
BEGIN:STANDARD
TZOFFSETFROM:-0230
TZOFFSETTO:-0330
TZNAME:NST
DTSTART:20221106T043000
END:STANDARD
BEGIN:DAYLIGHT
TZOFFSETFROM:-0330
TZOFFSETTO:-0230
TZNAME:NDT
DTSTART:20230312T053000
END:DAYLIGHT
BEGIN:STANDARD
TZOFFSETFROM:-0230
TZOFFSETTO:-0330
TZNAME:NST
DTSTART:20231105T043000
END:STANDARD
BEGIN:DAYLIGHT
TZOFFSETFROM:-0330
TZOFFSETTO:-0230
TZNAME:NDT
DTSTART:20240310T053000
END:DAYLIGHT
BEGIN:STANDARD
TZOFFSETFROM:-0230
TZOFFSETTO:-0330
TZNAME:NST
DTSTART:20241103T043000
END:STANDARD
END:VTIMEZONE
BEGIN:VEVENT
DTSTART;TZID=America/St_Johns:20230803T123000
DTEND;TZID=America/St_Johns:20230803T133000
DTSTAMP:20260423T065125
CREATED:20230615T132655Z
LAST-MODIFIED:20230717T131114Z
UID:1691-1691065800-1691069400@tuckamorefestival.ca
SUMMARY:Prelude Concert with Duo North East
DESCRIPTION:Tuckamore Festival Alumni Natalie Finn and Elena Vigna present a free afternoon of exciting music for violin duo\, including works by Maddalena Lombardi-Sirmen\, Sergei Prokofiev\, Astor Piazzolla\, Luis Ramirez\, Carlos Gardel\, and Andras Derecskei. \n\nViolin Duet No. 6 in C major                                 Maddalena Lombardi-Sirmen  \nSonata for Two Violins in C major\, Op.56                                 Sergei Prokofiev \nLibertango                                                                                            Astor Piazzolla \nImmigration Suite (2020)                                                                    Luis Ramirez \nPor Una Cabeza                                                                                    Carlos Gardel \nBalkanoid                                                                                       Andras Derecskei
URL:https://tuckamorefestival.ca/event/prelude-concert-with-duo-north-east/
LOCATION:Anglican Cathedral\, 16 Church Hill\, St. John's\, NL\, A1C 3Z9\, Canada
CATEGORIES:Free,Guest Artist Series
ATTACH;FMTTYPE=image/jpeg:https://tuckamorefestival.ca/wordpress/wp-content/uploads/Natalie-Elena-Color-scaled.jpg
END:VEVENT
END:VCALENDAR