BEGIN:VCALENDAR
VERSION:2.0
PRODID:-//Tuckamore Chamber Music Festival - ECPv6.15.20//NONSGML v1.0//EN
CALSCALE:GREGORIAN
METHOD:PUBLISH
X-ORIGINAL-URL:https://tuckamorefestival.ca
X-WR-CALDESC:Events for Tuckamore Chamber Music Festival
REFRESH-INTERVAL;VALUE=DURATION:PT1H
X-Robots-Tag:noindex
X-PUBLISHED-TTL:PT1H
BEGIN:VTIMEZONE
TZID:America/St_Johns
BEGIN:DAYLIGHT
TZOFFSETFROM:-0330
TZOFFSETTO:-0230
TZNAME:NDT
DTSTART:20220313T053000
END:DAYLIGHT
BEGIN:STANDARD
TZOFFSETFROM:-0230
TZOFFSETTO:-0330
TZNAME:NST
DTSTART:20221106T043000
END:STANDARD
BEGIN:DAYLIGHT
TZOFFSETFROM:-0330
TZOFFSETTO:-0230
TZNAME:NDT
DTSTART:20230312T053000
END:DAYLIGHT
BEGIN:STANDARD
TZOFFSETFROM:-0230
TZOFFSETTO:-0330
TZNAME:NST
DTSTART:20231105T043000
END:STANDARD
BEGIN:DAYLIGHT
TZOFFSETFROM:-0330
TZOFFSETTO:-0230
TZNAME:NDT
DTSTART:20240310T053000
END:DAYLIGHT
BEGIN:STANDARD
TZOFFSETFROM:-0230
TZOFFSETTO:-0330
TZNAME:NST
DTSTART:20241103T043000
END:STANDARD
END:VTIMEZONE
BEGIN:VEVENT
DTSTART;TZID=America/St_Johns:20230616T193000
DTEND;TZID=America/St_Johns:20230616T203000
DTSTAMP:20260423T041104
CREATED:20230424T161423Z
LAST-MODIFIED:20230609T185817Z
UID:1409-1686943800-1686947400@tuckamorefestival.ca
SUMMARY:Festival Launch Concert with Duo Concertante
DESCRIPTION:Join us for our annual festival launch at the beautiful St. Andrew’s Presbyterian Church. Enjoy a free concert with our esteemed artistic directors and find out the inside scoop on all our events and activities as part of our 23rd Tuckamore Festival\, happening August 7-20. \nOn the program: \nViolin Sonata in B minor\, Amanda Maier  \nDance me to your Beauty with a Burning Violin\, Kelly Marie Murphy  \nPetrichor\, Jocelyn Morlock \nViolin Sonata No. 2\, Maurice Ravel     
URL:https://tuckamorefestival.ca/event/festival-launch-concert-with-duo-concertante/
LOCATION:St. Andrew’s Presbyterian Church\, The “Kirk”\, 76 Queens Rd\, St. John's\, NL\, A1C 6J9\, Canada
CATEGORIES:Free,Tuckamore Faculty
ATTACH;FMTTYPE=image/jpeg:https://tuckamorefestival.ca/wordpress/wp-content/uploads/210621-1844-DuoConcertante-3914-scaled-1-e1713448737303.jpg
END:VEVENT
END:VCALENDAR