BEGIN:VCALENDAR
VERSION:2.0
PRODID:-//Tuckamore Chamber Music Festival - ECPv6.15.20//NONSGML v1.0//EN
CALSCALE:GREGORIAN
METHOD:PUBLISH
X-WR-CALNAME:Tuckamore Chamber Music Festival
X-ORIGINAL-URL:https://tuckamorefestival.ca
X-WR-CALDESC:Events for Tuckamore Chamber Music Festival
REFRESH-INTERVAL;VALUE=DURATION:PT1H
X-Robots-Tag:noindex
X-PUBLISHED-TTL:PT1H
BEGIN:VTIMEZONE
TZID:America/St_Johns
BEGIN:DAYLIGHT
TZOFFSETFROM:-0330
TZOFFSETTO:-0230
TZNAME:NDT
DTSTART:20220313T053000
END:DAYLIGHT
BEGIN:STANDARD
TZOFFSETFROM:-0230
TZOFFSETTO:-0330
TZNAME:NST
DTSTART:20221106T043000
END:STANDARD
BEGIN:DAYLIGHT
TZOFFSETFROM:-0330
TZOFFSETTO:-0230
TZNAME:NDT
DTSTART:20230312T053000
END:DAYLIGHT
BEGIN:STANDARD
TZOFFSETFROM:-0230
TZOFFSETTO:-0330
TZNAME:NST
DTSTART:20231105T043000
END:STANDARD
BEGIN:DAYLIGHT
TZOFFSETFROM:-0330
TZOFFSETTO:-0230
TZNAME:NDT
DTSTART:20240310T053000
END:DAYLIGHT
BEGIN:STANDARD
TZOFFSETFROM:-0230
TZOFFSETTO:-0330
TZNAME:NST
DTSTART:20241103T043000
END:STANDARD
END:VTIMEZONE
BEGIN:VEVENT
DTSTART;TZID=America/St_Johns:20230615T190000
DTEND;TZID=America/St_Johns:20230615T200000
DTSTAMP:20260423T024137
CREATED:20230607T201542Z
LAST-MODIFIED:20230609T193446Z
UID:1540-1686855600-1686859200@tuckamorefestival.ca
SUMMARY:Tuckamore Talks: Nature as Muse
DESCRIPTION:Join Tuckamore Festival’s resident music theorist\, Joe Argentino\, at the MUN Botanical Gardens for a free\, fun-filled\, and engaging talk on how composers are inspired by our natural world. His talk entitled\, NATURE AS MUSE\, will feature the works of Chopin\, Beethoven\, Richter\, and others. After the presentation\, stick around for a beautiful exploration of the gardens accompanied by a portable soundtrack.
URL:https://tuckamorefestival.ca/event/tuckamore-talks-nature-as-muse/
LOCATION:MUN Botanical Garden\, 306 Mt Scio Rd\, St. John's\, Newfoundland and Labrador\, A1B 4L6\, Canada
CATEGORIES:Free,Masterclasses & Talks,Workshops
ATTACH;FMTTYPE=image/webp:https://tuckamorefestival.ca/wordpress/wp-content/uploads/yMiN6Egt-800x533-stratum_web_optimized_jpeg-.webp
END:VEVENT
END:VCALENDAR