BEGIN:VCALENDAR
VERSION:2.0
PRODID:-//Tuckamore Chamber Music Festival - ECPv6.15.20//NONSGML v1.0//EN
CALSCALE:GREGORIAN
METHOD:PUBLISH
X-WR-CALNAME:Tuckamore Chamber Music Festival
X-ORIGINAL-URL:https://tuckamorefestival.ca
X-WR-CALDESC:Events for Tuckamore Chamber Music Festival
REFRESH-INTERVAL;VALUE=DURATION:PT1H
X-Robots-Tag:noindex
X-PUBLISHED-TTL:PT1H
BEGIN:VTIMEZONE
TZID:America/St_Johns
BEGIN:DAYLIGHT
TZOFFSETFROM:-0330
TZOFFSETTO:-0230
TZNAME:NDT
DTSTART:20210314T053000
END:DAYLIGHT
BEGIN:STANDARD
TZOFFSETFROM:-0230
TZOFFSETTO:-0330
TZNAME:NST
DTSTART:20211107T043000
END:STANDARD
BEGIN:DAYLIGHT
TZOFFSETFROM:-0330
TZOFFSETTO:-0230
TZNAME:NDT
DTSTART:20220313T053000
END:DAYLIGHT
BEGIN:STANDARD
TZOFFSETFROM:-0230
TZOFFSETTO:-0330
TZNAME:NST
DTSTART:20221106T043000
END:STANDARD
BEGIN:DAYLIGHT
TZOFFSETFROM:-0330
TZOFFSETTO:-0230
TZNAME:NDT
DTSTART:20230312T053000
END:DAYLIGHT
BEGIN:STANDARD
TZOFFSETFROM:-0230
TZOFFSETTO:-0330
TZNAME:NST
DTSTART:20231105T043000
END:STANDARD
END:VTIMEZONE
BEGIN:VEVENT
DTSTART;TZID=America/St_Johns:20220824T150000
DTEND;TZID=America/St_Johns:20220824T160000
DTSTAMP:20260422T222042
CREATED:20220812T183643Z
LAST-MODIFIED:20220812T190300Z
UID:1287-1661353200-1661356800@tuckamorefestival.ca
SUMMARY:Tuckamore Travels: Brigus
DESCRIPTION:We return to our much-loved St. Georges Heritage Church as part of our 22nd season post-festival tour. Join us for an afternoon of music with a talented 2022 Young Artist trio! Free admission. \nWith Bailey Wantuch\, violin; Nulibeth Emilizrtiz de Dominguez\, cello; Theodore Chow\, piano \nOn the program: \nPeter Min Arirang (2022)\nFranz Schubert Piano Trio No. 1 in Bb major
URL:https://tuckamorefestival.ca/event/tuckamore-travels-brigus/
LOCATION:St. George’s Heritage Church\, 37 Middle Ridge\, Brigus\, NL\, A0A 1K0\, Canada
CATEGORIES:Free,Touring Event,Young Artist Series
ATTACH;FMTTYPE=image/jpeg:https://tuckamorefestival.ca/wordpress/wp-content/uploads/Bailey.jpg
END:VEVENT
END:VCALENDAR