BEGIN:VCALENDAR
VERSION:2.0
PRODID:-//Tuckamore Chamber Music Festival - ECPv6.15.20//NONSGML v1.0//EN
CALSCALE:GREGORIAN
METHOD:PUBLISH
X-ORIGINAL-URL:https://tuckamorefestival.ca
X-WR-CALDESC:Events for Tuckamore Chamber Music Festival
REFRESH-INTERVAL;VALUE=DURATION:PT1H
X-Robots-Tag:noindex
X-PUBLISHED-TTL:PT1H
BEGIN:VTIMEZONE
TZID:America/St_Johns
BEGIN:DAYLIGHT
TZOFFSETFROM:-0330
TZOFFSETTO:-0230
TZNAME:NDT
DTSTART:20210314T053000
END:DAYLIGHT
BEGIN:STANDARD
TZOFFSETFROM:-0230
TZOFFSETTO:-0330
TZNAME:NST
DTSTART:20211107T043000
END:STANDARD
BEGIN:DAYLIGHT
TZOFFSETFROM:-0330
TZOFFSETTO:-0230
TZNAME:NDT
DTSTART:20220313T053000
END:DAYLIGHT
BEGIN:STANDARD
TZOFFSETFROM:-0230
TZOFFSETTO:-0330
TZNAME:NST
DTSTART:20221106T043000
END:STANDARD
BEGIN:DAYLIGHT
TZOFFSETFROM:-0330
TZOFFSETTO:-0230
TZNAME:NDT
DTSTART:20230312T053000
END:DAYLIGHT
BEGIN:STANDARD
TZOFFSETFROM:-0230
TZOFFSETTO:-0330
TZNAME:NST
DTSTART:20231105T043000
END:STANDARD
END:VTIMEZONE
BEGIN:VEVENT
DTSTART;TZID=America/St_Johns:20220821T193000
DTEND;TZID=America/St_Johns:20220821T210000
DTSTAMP:20260422T175903
CREATED:20220608T150240Z
LAST-MODIFIED:20220722T185834Z
UID:1007-1661110200-1661115600@tuckamorefestival.ca
SUMMARY:Festival Finale
DESCRIPTION:Sponsored by \n \nOur Festival Finale marks the culmination of two weeks of diligent practice\, rehearsing\, and coaching during our intensive Young Artist Program. Join our 2022 Young Artists as they perform chamber works by Franz Schubert\, Johannes Brahms\, Ludwig van Beethoven\, Gabriel Fauré\, Robert Schumann\, and Clara Schumann. \n  \n 
URL:https://tuckamorefestival.ca/event/festival-finale/
LOCATION:D.F. Cook Recital Hall\, Memorial University of Newfoundland - School of Music\, St. John's\, NL\, A1C 5S7\, Canada
CATEGORIES:Ticketed,Young Artist Series
ATTACH;FMTTYPE=image/jpeg:https://tuckamorefestival.ca/wordpress/wp-content/uploads/tuckermoreFinale87of89-scaled-e1654700551414.jpg
END:VEVENT
END:VCALENDAR