BEGIN:VCALENDAR
VERSION:2.0
PRODID:-//Tuckamore Chamber Music Festival - ECPv6.15.20//NONSGML v1.0//EN
CALSCALE:GREGORIAN
METHOD:PUBLISH
X-ORIGINAL-URL:https://tuckamorefestival.ca
X-WR-CALDESC:Events for Tuckamore Chamber Music Festival
REFRESH-INTERVAL;VALUE=DURATION:PT1H
X-Robots-Tag:noindex
X-PUBLISHED-TTL:PT1H
BEGIN:VTIMEZONE
TZID:America/St_Johns
BEGIN:DAYLIGHT
TZOFFSETFROM:-0330
TZOFFSETTO:-0230
TZNAME:NDT
DTSTART:20210314T053000
END:DAYLIGHT
BEGIN:STANDARD
TZOFFSETFROM:-0230
TZOFFSETTO:-0330
TZNAME:NST
DTSTART:20211107T043000
END:STANDARD
BEGIN:DAYLIGHT
TZOFFSETFROM:-0330
TZOFFSETTO:-0230
TZNAME:NDT
DTSTART:20220313T053000
END:DAYLIGHT
BEGIN:STANDARD
TZOFFSETFROM:-0230
TZOFFSETTO:-0330
TZNAME:NST
DTSTART:20221106T043000
END:STANDARD
BEGIN:DAYLIGHT
TZOFFSETFROM:-0330
TZOFFSETTO:-0230
TZNAME:NDT
DTSTART:20230312T053000
END:DAYLIGHT
BEGIN:STANDARD
TZOFFSETFROM:-0230
TZOFFSETTO:-0330
TZNAME:NST
DTSTART:20231105T043000
END:STANDARD
END:VTIMEZONE
BEGIN:VEVENT
DTSTART;TZID=America/St_Johns:20220820T100000
DTEND;TZID=America/St_Johns:20220820T123000
DTSTAMP:20260422T163356
CREATED:20220608T182915Z
LAST-MODIFIED:20220608T182915Z
UID:1085-1660989600-1660998600@tuckamorefestival.ca
SUMMARY:Young Artist Masterclass with Robert Kortgaard
DESCRIPTION:Our young pianists and chamber groups receive coaching from guest pianist and sought-after collaborative musician\, Robert Kortgaard. Open to the public.
URL:https://tuckamorefestival.ca/event/young-artist-masterclass-with-robert-kortgaard/
LOCATION:D.F. Cook Recital Hall\, Memorial University of Newfoundland - School of Music\, St. John's\, NL\, A1C 5S7\, Canada
CATEGORIES:Free,Masterclasses & Talks
ATTACH;FMTTYPE=image/jpeg:https://tuckamorefestival.ca/wordpress/wp-content/uploads/Robert-Kortgaard.jpg
END:VEVENT
BEGIN:VEVENT
DTSTART;TZID=America/St_Johns:20220820T130000
DTEND;TZID=America/St_Johns:20220820T150000
DTSTAMP:20260422T163356
CREATED:20220713T201149Z
LAST-MODIFIED:20220713T201212Z
UID:1228-1661000400-1661007600@tuckamorefestival.ca
SUMMARY:Community Masterclass with Julie Nesrallah
DESCRIPTION:Local young classical singers receive coaching from mezzo-soprano Julie Nesrallah\, one of Canada’s foremost interpreters of Bizet opera. Open to the public.
URL:https://tuckamorefestival.ca/event/community-masterclass-with-julie-nesrallah/
LOCATION:D.F. Cook Recital Hall\, Memorial University of Newfoundland - School of Music\, St. John's\, NL\, A1C 5S7\, Canada
CATEGORIES:Free,Masterclasses & Talks
ATTACH;FMTTYPE=image/png:https://tuckamorefestival.ca/wordpress/wp-content/uploads/Julie-Nesrallah-Square.png
END:VEVENT
BEGIN:VEVENT
DTSTART;TZID=America/St_Johns:20220820T160000
DTEND;TZID=America/St_Johns:20220820T170000
DTSTAMP:20260422T163356
CREATED:20220608T181220Z
LAST-MODIFIED:20220608T181220Z
UID:1069-1661011200-1661014800@tuckamorefestival.ca
SUMMARY:Young Artists in Pouch Cove
DESCRIPTION:Our Young Artist Performers bring their talents to this scenic windswept community\, about 30-minutes north of St. John’s. \nThis will mark our first appearance in the James Baird Gallery – a 5\,000 square foot gallery in the totally renovated Pouch Cove Elementary School\, just off the Main Road. The Pouch Cove Foundation residency program is housed in the same building offering eight live/work spaces to visual artists from around the world.
URL:https://tuckamorefestival.ca/event/young-artists-in-pouch-cove/
LOCATION:James Baird Gallery\, 14 Gruchy's Hill\, Pouch Cove\, NL\, A0A 3L0\, Canada
CATEGORIES:Admission by donation,Young Artist Series
ATTACH;FMTTYPE=image/jpeg:https://tuckamorefestival.ca/wordpress/wp-content/uploads/Lunchtime-Aug12-202196-cred-Ritche-Perez-scaled-e1654711854189.jpg
END:VEVENT
BEGIN:VEVENT
DTSTART;TZID=America/St_Johns:20220820T193000
DTEND;TZID=America/St_Johns:20220820T210000
DTSTAMP:20260422T163356
CREATED:20220608T133445Z
LAST-MODIFIED:20220628T182613Z
UID:1005-1661023800-1661029200@tuckamorefestival.ca
SUMMARY:The Feminine Mystique
DESCRIPTION:An all-star celebration of female composers and the women behind the music with Julie Nesrallah\, Robert Kortgaard\, Heather Tuach\, Heather Kao\, Kate Read\, Patrick Cashin and Michelle Cheramy.
URL:https://tuckamorefestival.ca/event/the-feminine-mystique/
LOCATION:First Light Centre for Performance and Creativity\, 81 Cochrane St.\, St. John's\, NL\, A1C 3L7\, Canada
CATEGORIES:Guest Artist Series,Ticketed
ATTACH;FMTTYPE=image/jpeg:https://tuckamorefestival.ca/wordpress/wp-content/uploads/vecteezy_continuous-line-drawing-of-woman-face-woman-face-with-plant_6051471.jpg
END:VEVENT
END:VCALENDAR