BEGIN:VCALENDAR
VERSION:2.0
PRODID:-//Tuckamore Chamber Music Festival - ECPv6.15.20//NONSGML v1.0//EN
CALSCALE:GREGORIAN
METHOD:PUBLISH
X-WR-CALNAME:Tuckamore Chamber Music Festival
X-ORIGINAL-URL:https://tuckamorefestival.ca
X-WR-CALDESC:Events for Tuckamore Chamber Music Festival
REFRESH-INTERVAL;VALUE=DURATION:PT1H
X-Robots-Tag:noindex
X-PUBLISHED-TTL:PT1H
BEGIN:VTIMEZONE
TZID:America/St_Johns
BEGIN:DAYLIGHT
TZOFFSETFROM:-0330
TZOFFSETTO:-0230
TZNAME:NDT
DTSTART:20210314T053000
END:DAYLIGHT
BEGIN:STANDARD
TZOFFSETFROM:-0230
TZOFFSETTO:-0330
TZNAME:NST
DTSTART:20211107T043000
END:STANDARD
BEGIN:DAYLIGHT
TZOFFSETFROM:-0330
TZOFFSETTO:-0230
TZNAME:NDT
DTSTART:20220313T053000
END:DAYLIGHT
BEGIN:STANDARD
TZOFFSETFROM:-0230
TZOFFSETTO:-0330
TZNAME:NST
DTSTART:20221106T043000
END:STANDARD
BEGIN:DAYLIGHT
TZOFFSETFROM:-0330
TZOFFSETTO:-0230
TZNAME:NDT
DTSTART:20230312T053000
END:DAYLIGHT
BEGIN:STANDARD
TZOFFSETFROM:-0230
TZOFFSETTO:-0330
TZNAME:NST
DTSTART:20231105T043000
END:STANDARD
END:VTIMEZONE
BEGIN:VEVENT
DTSTART;TZID=America/St_Johns:20220817T110000
DTEND;TZID=America/St_Johns:20220817T120000
DTSTAMP:20260422T121555
CREATED:20220608T180410Z
LAST-MODIFIED:20220608T180410Z
UID:1065-1660734000-1660737600@tuckamorefestival.ca
SUMMARY:Family Concert with the Verona Quartet
DESCRIPTION:The award-winning Verona Quartet brings its youthful energy to the beautiful atrium at The Rooms. A concert for all ages!
URL:https://tuckamorefestival.ca/event/family-concert-with-the-verona-quartet/
LOCATION:The Rooms\, 9 Bonaventure Ave\, St. John's\, NL\, A1C 5P9
CATEGORIES:Free
ATTACH;FMTTYPE=image/jpeg:https://tuckamorefestival.ca/wordpress/wp-content/uploads/Veronas-Laughing-e1654711408963.jpg
END:VEVENT
BEGIN:VEVENT
DTSTART;TZID=America/St_Johns:20220817T123000
DTEND;TZID=America/St_Johns:20220817T133000
DTSTAMP:20260422T121555
CREATED:20220608T152244Z
LAST-MODIFIED:20220608T173108Z
UID:1051-1660739400-1660743000@tuckamorefestival.ca
SUMMARY:Lunchtime Young Artist Recital 3
DESCRIPTION:An uplifting hour of solo and chamber music performed by our talented 2022 Young Artists! Admission by donation.
URL:https://tuckamorefestival.ca/event/lunchtime-young-artist-recital-3/
LOCATION:Anglican Cathedral\, 16 Church Hill\, St. John's\, NL\, A1C 3Z9\, Canada
CATEGORIES:Admission by donation,Young Artist Series
ATTACH;FMTTYPE=image/jpeg:https://tuckamorefestival.ca/wordpress/wp-content/uploads/TuckermoreAug12-202143of99-scaled-e1654701753570.jpg
END:VEVENT
BEGIN:VEVENT
DTSTART;TZID=America/St_Johns:20220817T193000
DTEND;TZID=America/St_Johns:20220817T210000
DTSTAMP:20260422T121555
CREATED:20220608T134033Z
LAST-MODIFIED:20220624T122630Z
UID:993-1660764600-1660770000@tuckamorefestival.ca
SUMMARY:Red Blooded Romance
DESCRIPTION:A tag team of two great chamber works of the Romantic era: Mendelssohn’s Piano Trio No. 2 in C minor\, Op. 66 and Dvorak’s String Quartet No. 13 in G major\, Op. 106. Followed by a post-concert artist chat moderated by Annie Corrigan. \nImage Credit: “Passion: Design of an altar” Angela Marie Henriette
URL:https://tuckamorefestival.ca/event/red-blooded-romance/
LOCATION:D.F. Cook Recital Hall\, Memorial University of Newfoundland - School of Music\, St. John's\, NL\, A1C 5S7\, Canada
CATEGORIES:Guest Artist Series,Ticketed
ATTACH;FMTTYPE=image/jpeg:https://tuckamorefestival.ca/wordpress/wp-content/uploads/5546134522_0d65dae3f8_c-e1654035718954.jpg
END:VEVENT
END:VCALENDAR