BEGIN:VCALENDAR
VERSION:2.0
PRODID:-//Tuckamore Chamber Music Festival - ECPv6.15.20//NONSGML v1.0//EN
CALSCALE:GREGORIAN
METHOD:PUBLISH
X-WR-CALNAME:Tuckamore Chamber Music Festival
X-ORIGINAL-URL:https://tuckamorefestival.ca
X-WR-CALDESC:Events for Tuckamore Chamber Music Festival
REFRESH-INTERVAL;VALUE=DURATION:PT1H
X-Robots-Tag:noindex
X-PUBLISHED-TTL:PT1H
BEGIN:VTIMEZONE
TZID:America/St_Johns
BEGIN:DAYLIGHT
TZOFFSETFROM:-0330
TZOFFSETTO:-0230
TZNAME:NDT
DTSTART:20210314T053000
END:DAYLIGHT
BEGIN:STANDARD
TZOFFSETFROM:-0230
TZOFFSETTO:-0330
TZNAME:NST
DTSTART:20211107T043000
END:STANDARD
BEGIN:DAYLIGHT
TZOFFSETFROM:-0330
TZOFFSETTO:-0230
TZNAME:NDT
DTSTART:20220313T053000
END:DAYLIGHT
BEGIN:STANDARD
TZOFFSETFROM:-0230
TZOFFSETTO:-0330
TZNAME:NST
DTSTART:20221106T043000
END:STANDARD
BEGIN:DAYLIGHT
TZOFFSETFROM:-0330
TZOFFSETTO:-0230
TZNAME:NDT
DTSTART:20230312T053000
END:DAYLIGHT
BEGIN:STANDARD
TZOFFSETFROM:-0230
TZOFFSETTO:-0330
TZNAME:NST
DTSTART:20231105T043000
END:STANDARD
END:VTIMEZONE
BEGIN:VEVENT
DTSTART;TZID=America/St_Johns:20220815T193000
DTEND;TZID=America/St_Johns:20220815T210000
DTSTAMP:20260422T091509
CREATED:20220608T134722Z
LAST-MODIFIED:20220624T114157Z
UID:987-1660591800-1660597200@tuckamorefestival.ca
SUMMARY:Verona Quartet
DESCRIPTION:One of the most in-demand string quartets in the world\, the Verona Quartet bring their exceptional interpretative maturity and tonal refinement to the beautiful First Light Centre in downtown St. John’s.
URL:https://tuckamorefestival.ca/event/verona-quartet/
LOCATION:First Light Centre for Performance and Creativity\, 81 Cochrane St.\, St. John's\, NL\, A1C 3L7\, Canada
CATEGORIES:Guest Artist Series,Ticketed
ATTACH;FMTTYPE=image/jpeg:https://tuckamorefestival.ca/wordpress/wp-content/uploads/VERONA-2007-e1654035131350.jpg
END:VEVENT
END:VCALENDAR