BEGIN:VCALENDAR
VERSION:2.0
PRODID:-//Tuckamore Chamber Music Festival - ECPv6.15.20//NONSGML v1.0//EN
CALSCALE:GREGORIAN
METHOD:PUBLISH
X-ORIGINAL-URL:https://tuckamorefestival.ca
X-WR-CALDESC:Events for Tuckamore Chamber Music Festival
REFRESH-INTERVAL;VALUE=DURATION:PT1H
X-Robots-Tag:noindex
X-PUBLISHED-TTL:PT1H
BEGIN:VTIMEZONE
TZID:America/St_Johns
BEGIN:DAYLIGHT
TZOFFSETFROM:-0330
TZOFFSETTO:-0230
TZNAME:NDT
DTSTART:20210314T053000
END:DAYLIGHT
BEGIN:STANDARD
TZOFFSETFROM:-0230
TZOFFSETTO:-0330
TZNAME:NST
DTSTART:20211107T043000
END:STANDARD
BEGIN:DAYLIGHT
TZOFFSETFROM:-0330
TZOFFSETTO:-0230
TZNAME:NDT
DTSTART:20220313T053000
END:DAYLIGHT
BEGIN:STANDARD
TZOFFSETFROM:-0230
TZOFFSETTO:-0330
TZNAME:NST
DTSTART:20221106T043000
END:STANDARD
BEGIN:DAYLIGHT
TZOFFSETFROM:-0330
TZOFFSETTO:-0230
TZNAME:NDT
DTSTART:20230312T053000
END:DAYLIGHT
BEGIN:STANDARD
TZOFFSETFROM:-0230
TZOFFSETTO:-0330
TZNAME:NST
DTSTART:20231105T043000
END:STANDARD
END:VTIMEZONE
BEGIN:VEVENT
DTSTART;TZID=America/St_Johns:20220814T160000
DTEND;TZID=America/St_Johns:20220814T170000
DTSTAMP:20260422T074340
CREATED:20220714T132746Z
LAST-MODIFIED:20220804T130803Z
UID:1233-1660492800-1660496400@tuckamorefestival.ca
SUMMARY:Tuckamore Talks: Fire\, Water\, Earth\, and Air
DESCRIPTION:Fire\, Water\, Earth\, and Air: faculty music theorist Joe Argentino explores the many ways the four elements are depicted in music. Grab a pint and catch this engaging chat about music in one of the city’s hottest locales! Free event. \nPlease note\, Bannerman Brewing Co Event Space is on the second floor of the building and only accessible by stairs.
URL:https://tuckamorefestival.ca/event/tuckamore-talks-with-joe-argentino-2/
LOCATION:Bannerman Brewing Co\, 90 Duckworth St.\, St. John's\, NL\, A1C 1E7\, Canada
CATEGORIES:Free,Masterclasses & Talks
ATTACH;FMTTYPE=image/jpeg:https://tuckamorefestival.ca/wordpress/wp-content/uploads/Joe-Argentino.jpg
END:VEVENT
END:VCALENDAR